{"text_format":"1","workbook":"xlsx","n_sheets":8,"sheets":["入力シート","入力例","一軸圧縮_1正","一軸圧縮_2副","一軸圧縮_3試験担当","一軸圧縮_4申込者控","一軸圧縮_5成績書","link"],"not_rendered":{"charts":0,"images":2,"macros":1,"external_links":0,"defined_names":7,"comments":0,"pivot_tables":0},"unopened":[],"bounds":{"document_bytes":16777216,"sheet_cells":100000,"rows_first":2000,"rows_last":500,"rows_between":2000,"halvings":0,"cell_chars":16384,"cell_head_chars":4096},"cells_cut":0,"cells_raw":0,"read":"whole","date_system":"1900"}

{"sheet":"入力シート","index":0,"n_rows":39,"n_cols":14,"rows_kept":39,"cut":false,"hidden":false,"merged":[[35,8,35,10],[34,2,34,8],[18,8,18,10],[17,8,17,10],[15,8,15,10],[16,2,16,7],[16,8,16,10],[32,9,33,9],[29,8,29,10],[30,10,31,10],[30,9,31,9],[32,10,33,10],[29,2,29,7],[24,8,26,10],[27,8,27,10],[28,8,28,10],[1,1,1,10],[14,8,14,10],[12,8,12,10],[19,8,19,10],[21,8,21,10],[6,8,6,10],[6,2,6,7],[7,2,7,7],[8,2,8,7],[9,2,9,7],[30,0,34,0],[30,8,31,8],[32,8,33,8],[30,1,34,1],[32,2,33,5],[32,6,33,6],[32,7,33,7],[30,7,31,7],[30,6,31,6],[30,2,31,5],[24,0,26,0],[26,5,26,6],[27,4,27,5],[22,0,23,0],[22,1,23,1],[24,1,26,1],[24,3,24,4],[25,3,25,4],[24,5,24,7],[25,5,25,7],[22,8,23,10],[7,0,12,0],[14,2,14,6],[12,2,12,7],[11,2,11,7],[15,4,15,7],[10,2,10,7],[0,11,1,15],[17,2,17,7],[18,2,18,7],[19,2,19,7],[28,2,28,7],[22,2,23,3],[23,5,23,6],[20,8,20,10],[20,2,20,7],[21,2,21,7],[0,1,0,10],[11,8,11,10],[10,8,10,10],[9,8,9,10],[8,8,8,10],[7,8,7,10]]}
[null,"建設材料試験申込書 入力シート",null,null,null,null,null,null,null,null,null,"　各シートの印刷は、入力シートの下に\n　一括印刷ボタンがあります。"]
[null," （一軸圧縮試験用）"]
[]
[null,"●赤い欄内に入力、またはチェックボックスにチェックを入れてください。"]
[null,"●英数字は半角で入力ください。"]
[]
[null,"項　目","記　入　欄",null,null,null,null,null,"備考"]
["申込者","〒",null,null,null,null,null,null,"※「-」を入れる"]
[null,"住　所"]
[null,"会社名"]
[null,"担当者"]
[null,"連絡先①",null,null,null,null,null,null,"※「-」を入れる"]
[null,"連絡先②",null,null,null,null,null,null,"※連絡先は携帯、１件のみでも可"]
[]
[1,"工事名",null,null,null,null,null,"工事"]
[2,"工事場所",null,"区",null,null,null,null,"※町名までを記入"]
[3,"工事監督課",null,null,null,null,null,null,"（記入例）\n建設局　東部整備事務所　工務第一課\n上下水道局 西部工事事務所 下水道課\n若松区役所　まちづくり整備課"]
[4,"監督員"]
[5,"工　種",null,null,null,null,null,null,null,null,null,null,"9. セメント種類"]
[6,"使用部分",null,null,null,null,null,null,null,null,null,null,"KN/㎡",false]
[7,"使用材料",null,null,null,null,null,null,null,null,null,null,"N/㎟",false]
[8,"製造業者\n及び産地等",null,null,null,null,null,null,null,null,null,null,"その他",false]
[9,"基準値",null,null,null,null,null,null,"※数値を入れ当てはまる単位にチェック\n※その他の単位の場合は、その他欄を\n　　チェックして（　　）内に単位を記入"]
[null,null,null,null,null,null,null,null,null,null,null,null,"10. 打設日"]
[10,"打設日","打設日",null,null,null,null,null,"※西暦/月/日を記入\n\n\n※打設日から試験日までの日数は\n　自動計算",null,null,null,"１週",false]
[null,null,"試験日"]
[null,null,null,null,null,{"$f":"_xlfn.DAYS(D26,D25)","v":0},null,null,null,null,null,null,"４週",false]
[11,"養生方法",null,null,null,null,null,null,"※標準でない場合は（　）内に記入",null,null,null,"その他",false]
[12,"供試体の深さ"]
[13,"備　考",null,null,null,null,null,null,null,null,null,null,"11. 養生方法"]
[14,"一軸圧縮試験項目","①一軸圧縮試験\n　　　整理番号: ０９／ 単位: １試料／ 単価: 8,300円",null,null,null,null,"件","計",{"$f":"G31*8300","v":0},"円",null,"標準",false]
[null,null,null,null,null,null,null,null,null,null,null,null,"その他",false]
[null,null,"②その他（再交付）\n　　　整理番号: ５１／ 単位: 件／ 単価:　 300円",null,null,null,null,"件","計",{"$f":"G33*300","v":0},"円"]
[null,null,null,null,null,null,null,null,null,null,null,null,"17. 通知方法"]
[null,null,"手数料合計",null,null,null,null,null,null,{"$f":"SUM(J31:J34)","v":0},"円",null,"試験場",false]
[15,"通知方法",null,null,null,null,null,null,null,null,null,null,"郵送",false]
[]
[null,null,null,null,null,null,"印刷プレビュー画面に移動します。"]
[null,null,null,null,null,null,"そこで左上の「印刷」ボタンを押すと各シートを印刷します。"]

{"sheet":"入力例","index":1,"n_rows":36,"n_cols":14,"rows_kept":36,"cut":false,"hidden":false,"merged":[[35,8,35,10],[32,2,33,5],[32,6,33,6],[32,7,33,7],[32,8,33,8],[32,9,33,9],[32,10,33,10],[29,2,29,7],[29,8,29,10],[30,0,34,0],[30,1,34,1],[30,2,31,5],[30,6,31,6],[30,7,31,7],[30,8,31,8],[30,9,31,9],[30,10,31,10],[34,2,34,8],[24,0,26,0],[24,1,26,1],[24,3,24,4],[24,5,24,7],[24,8,26,10],[25,3,25,4],[25,5,25,7],[26,5,26,6],[22,0,23,0],[22,1,23,1],[22,2,23,3],[22,8,23,10],[23,5,23,6],[20,2,20,7],[20,8,20,10],[21,2,21,7],[21,8,21,10],[28,2,28,7],[28,8,28,10],[27,4,27,5],[27,8,27,10],[17,2,17,7],[17,8,17,10],[18,2,18,7],[18,8,18,10],[19,2,19,7],[19,8,19,10],[14,2,14,6],[14,8,14,10],[15,4,15,7],[15,8,15,10],[16,2,16,7],[16,8,16,10],[0,1,0,10],[0,11,1,15],[1,1,1,10],[6,2,6,7],[6,8,6,10],[7,0,12,0],[7,2,7,7],[7,8,7,10],[8,2,8,7],[8,8,8,10],[9,2,9,7],[9,8,9,10],[10,2,10,7],[10,8,10,10],[11,2,11,7],[11,8,11,10],[12,2,12,7],[12,8,12,10]]}
[null,"【入力例】　建設材料試験申込書 入力シート"]
[null," （一軸圧縮試験用）"]
[]
[null,"●赤い欄内に入力、またはチェックボックスにチェックを入れてください。"]
[null,"●英数字は半角で入力ください。"]
[]
[null,"項　目","記　入　欄",null,null,null,null,null,"備考"]
["申込者","〒","803-8501",null,null,null,null,null,"※「-」を入れる"]
[null,"住　所","北九州市小倉北区〇〇□□"]
[null,"会社名","株式会社　〇□"]
[null,"担当者","北九州　太郎"]
[null,"連絡先①","090-1111-2222",null,null,null,null,null,"※「-」を入れる"]
[null,"連絡先②","093-000-1234",null,null,null,null,null,"※連絡先は携帯、１件のみでも可"]
[]
[1,"工事名","〇△□",null,null,null,null,"工事"]
[2,"工事場所","小倉南","区","△△町",null,null,null,"※町名までを記入"]
[3,"工事監督課","建設局　東部整備事務所　工務第一課",null,null,null,null,null,"（記入例）\n建設局　東部整備事務所　工務第一課\n上下水道局 西部工事事務所 下水道課\n若松区役所　まちづくり整備課"]
[4,"監督員","北九　花子"]
[5,"工　種","地盤改良工"]
[6,"使用部分","□□□"]
[7,"使用材料","△△△"]
[8,"製造業者\n及び産地等","〇〇〇株式会社"]
[9,"基準値",500,null,null,null,null,null,"※数値を入れ当てはまる単位にチェック\n※その他の単位の場合は、その他欄を\n　　チェックして（　　）内に単位を記入"]
[]
[10,"打設日","打設日","2020-05-22",null,null,null,null,"※西暦/月/日を記入\n\n\n※打設日から試験日までの日数は\n　自動計算"]
[null,null,"試験日","2020-06-19"]
[null,null,null,null,null,{"$f":"_xlfn.DAYS(D26,D25)","v":28},null,null,null,null,null,null,null,true]
[11,"養生方法",null,null,null,null,null,null,"※標準でない場合は（　）内に記入"]
[12,"供試体の深さ","GL -5.00m"]
[13,"備　考"]
[14,"一軸圧縮試験項目","①一軸圧縮試験\n　　　整理番号: ０９／ 単位: １試料／ 単価: 8,300円",null,null,null,3,"件","計",{"$f":"G31*8300","v":24900},"円",null,null,true]
[]
[null,null,"②その他（再交付）\n　　　整理番号: ５１／ 単位: 件／ 単価:　 300円",null,null,null,null,"件","計",{"$f":"G33*300","v":0},"円"]
[]
[null,null,"手数料合計",null,null,null,null,null,null,{"$f":"SUM(J31:J34)","v":24900},"円"]
[15,"通知方法"]

{"sheet":"一軸圧縮_1正","index":2,"n_rows":27,"n_cols":19,"rows_kept":27,"cut":false,"hidden":false,"merged":[[25,2,25,18],[26,14,26,18],[24,5,24,6],[23,9,23,12],[24,9,24,12],[23,17,23,18],[24,17,24,18],[23,15,23,16],[24,15,24,16],[23,5,23,6],[24,1,24,2],[24,7,24,8],[0,15,0,18],[11,17,11,18],[11,2,11,16],[6,3,6,5],[2,0,2,18],[7,2,7,18],[6,1,7,1],[6,0,10,0],[9,1,10,1],[9,8,10,11],[8,2,8,18],[9,2,10,7],[4,1,4,6],[6,6,6,18],[10,13,10,18],[9,13,9,18],[22,0,24,0],[22,1,22,18],[23,1,23,2],[23,7,23,8],[13,2,13,18],[15,12,15,18],[20,2,20,18],[19,2,19,6],[19,7,19,11],[19,12,19,18],[18,2,18,5],[18,6,18,10],[21,2,21,18],[18,16,18,17],[18,11,18,14],[12,2,12,4],[15,2,15,7],[17,2,17,4],[17,5,17,14],[14,2,14,7],[14,12,14,18],[14,9,14,11],[17,15,17,17],[12,6,12,18],[16,2,16,18],[15,9,15,11]]}
[null,null,null,null,null,null,null,null,null,null,null,null,null,null,null,"（正）"]
[]
["建 設 材 料 試 験 申 込 書\n（一軸圧縮試験用）"]
[]
[null,"北九州市長　武 内 和 久 様"]
[]
["申　込　者","住　所","〒",{"$f":"TEXT(入力シート!C8,\"###-####\")","v":"-"}]
[null,null,{"$f":"入力シート!C9&\"\"","v":""}]
[null,"会社名",{"$f":"入力シート!C10&\"\"","v":""}]
[null,"担当者",{"$f":"入力シート!C11&\"\"","v":""},null,null,null,null,null,"連絡先",null,null,null,null,{"$f":"入力シート!C12&\"\"","v":""}]
[null,null,null,null,null,null,null,null,null,null,null,null,null,{"$f":"入力シート!C13&\"\"","v":""}]
[1,"工事名",{"$f":"入力シート!C15&\"\"","v":""},null,null,null,null,null,null,null,null,null,null,null,null,null,null,"工事"]
[2,"工事場所",{"$f":"入力シート!C16&\"\"","v":""},null,null,"区",{"$f":"入力シート!E16&\"\"","v":""}]
[3,"工事監督課",{"$f":"入力シート!C17&\"\"","v":""}]
[4,"監督員",{"$f":"入力シート!C18&\"\"","v":""},null,null,null,null,null,5,"工　種",null,null,{"$f":"入力シート!C19&\"\"","v":""}]
[6,"使用部分",{"$f":"入力シート!C20&\"\"","v":""},null,null,null,null,null,7,"使用材料",null,null,{"$f":"入力シート!C21&\"\"","v":""}]
[8,"製造業者\n及び産地等",{"$f":"入力シート!C22&\"\"","v":""}]
[9,"基準値",{"$f":"入力シート!C23&\"\"","v":""},null,null,null,null,null,null,null,null,null,null,null,null,{"$f":"入力シート!F24&\"\"","v":""}]
[10,"打設日",{"$f":"TEXT(入力シート!D25&\"\",\"yyyy/m/d\")","v":""},null,null,null,{"$f":"TEXT(入力シート!D26&\"\",\"yyyy/m/d\")","v":""},null,null,null,null,null,null,null,null,"（",{"$f":"入力シート!F27","v":0},null,"）日"]
[11,"養生方法",null,null,null,null,null,{"$f":"入力シート!E28&\"\"","v":""}]
[12,"供試体の\n深　さ",{"$f":"入力シート!C29&\"\"","v":""}]
[13,"備　考",{"$f":"入力シート!C30&\"\"","v":""}]
[14," 一軸圧縮試験項目"]
[null,"試験名",null,"整理\n番号","単位","単価",null,"件数",null,"試験名",null,null,null,"整理\n番号","単位","単価",null,"件数"]
[null," ①一軸圧縮試験",null,"09","１\n試料","8,300円",null,{"$f":"入力シート!G31&\"\"","v":""},null," ②その他\n　　（再 交 付）",null,null,null,51,"件","300円",null,{"$f":"入力シート!G33&\"\"","v":""}]
[15,"通知方法"]
[null,null,null,null,null,null,null,null,null,null,null,null,null,null,{"$f":"入力シート!J35","v":0}]

{"sheet":"一軸圧縮_2副","index":3,"n_rows":27,"n_cols":19,"rows_kept":27,"cut":false,"hidden":false,"merged":[[25,2,25,18],[26,14,26,18],[24,1,24,2],[24,5,24,6],[24,7,24,8],[24,9,24,12],[24,15,24,16],[24,17,24,18],[22,0,24,0],[22,1,22,18],[23,1,23,2],[23,5,23,6],[23,7,23,8],[23,9,23,12],[23,15,23,16],[23,17,23,18],[19,2,19,6],[19,7,19,11],[19,12,19,18],[20,2,20,18],[21,2,21,18],[16,2,16,18],[17,2,17,4],[17,5,17,14],[17,15,17,17],[18,11,18,14],[18,16,18,17],[14,2,14,7],[14,9,14,11],[14,12,14,18],[15,2,15,7],[15,9,15,11],[15,12,15,18],[11,2,11,16],[11,17,11,18],[12,2,12,4],[12,6,12,18],[13,2,13,18],[0,15,0,18],[2,0,2,18],[4,1,4,6],[6,0,10,0],[6,1,7,1],[6,3,6,5],[6,6,6,18],[7,2,7,18],[8,2,8,18],[9,1,10,1],[9,2,10,7],[9,8,10,11],[9,13,9,18],[10,13,10,18]]}
[null,null,null,null,null,null,null,null,null,null,null,null,null,null,null,"（副）"]
[]
["建 設 材 料 試 験 申 込 書\n（一軸圧縮試験用）"]
[]
[null,"北九州市長　武 内 和 久 様"]
[]
["申　込　者","住　所","〒",{"$f":"TEXT(入力シート!C8,\"###-####\")","v":"-"}]
[null,null,{"$f":"入力シート!C9&\"\"","v":""}]
[null,"会社名",{"$f":"入力シート!C10&\"\"","v":""}]
[null,"担当者",{"$f":"入力シート!C11&\"\"","v":""},null,null,null,null,null,"連絡先",null,null,null,null,{"$f":"入力シート!C12&\"\"","v":""}]
[null,null,null,null,null,null,null,null,null,null,null,null,null,{"$f":"入力シート!C13&\"\"","v":""}]
[1,"工事名",{"$f":"入力シート!C15&\"\"","v":""},null,null,null,null,null,null,null,null,null,null,null,null,null,null,"工事"]
[2,"工事場所",{"$f":"入力シート!C16&\"\"","v":""},null,null,"区",{"$f":"入力シート!E16&\"\"","v":""}]
[3,"工事監督課",{"$f":"入力シート!C17&\"\"","v":""}]
[4,"監督員",{"$f":"入力シート!C18&\"\"","v":""},null,null,null,null,null,5,"工　種",null,null,{"$f":"入力シート!C19&\"\"","v":""}]
[6,"使用部分",{"$f":"入力シート!C20&\"\"","v":""},null,null,null,null,null,7,"使用材料",null,null,{"$f":"入力シート!C21&\"\"","v":""}]
[8,"製造業者\n及び産地等",{"$f":"入力シート!C22&\"\"","v":""}]
[9,"基準値",{"$f":"入力シート!C23&\"\"","v":""},null,null,null,null,null,null,null,null,null,null,null,null,{"$f":"入力シート!F24&\"\"","v":""}]
[10,"打設日",{"$f":"TEXT(入力シート!D25&\"\",\"yyyy/m/d\")","v":""},null,null,null,{"$f":"TEXT(入力シート!D26&\"\",\"yyyy/m/d\")","v":""},null,null,null,null,null,null,null,null,"（",{"$f":"入力シート!F27","v":0},null,"）日"]
[11,"養生方法",null,null,null,null,null,{"$f":"入力シート!E28&\"\"","v":""}]
[12,"供試体の\n深　さ",{"$f":"入力シート!C29&\"\"","v":""}]
[13,"備　考",{"$f":"入力シート!C30&\"\"","v":""}]
[14," 一軸圧縮試験項目"]
[null,"試験名",null,"整理\n番号","単位","単価",null,"件数",null,"試験名",null,null,null,"整理\n番号","単位","単価",null,"件数"]
[null," ①一軸圧縮試験",null,"09","１\n試料","8,300円",null,{"$f":"入力シート!G31&\"\"","v":""},null," ②その他\n　　（再 交 付）",null,null,null,51,"件","300円",null,{"$f":"入力シート!G33&\"\"","v":""}]
[15,"通知方法"]
[null,null,null,null,null,null,null,null,null,null,null,null,null,null,{"$f":"入力シート!J35","v":0}]

{"sheet":"一軸圧縮_3試験担当","index":4,"n_rows":27,"n_cols":19,"rows_kept":27,"cut":false,"hidden":false,"merged":[[2,0,2,18],[4,1,4,6],[6,0,10,0],[6,1,7,1],[6,3,6,5],[6,6,6,18],[7,2,7,18],[8,2,8,18],[9,1,10,1],[9,2,10,7],[9,8,10,11],[9,13,9,18],[10,13,10,18],[11,2,11,16],[11,17,11,18],[12,2,12,4],[12,6,12,18],[13,2,13,18],[14,2,14,7],[14,9,14,11],[14,12,14,18],[19,7,19,11],[19,12,19,18],[15,2,15,7],[15,9,15,11],[15,12,15,18],[16,2,16,18],[17,2,17,4],[17,5,17,14],[17,15,17,17],[22,0,24,0],[22,1,22,18],[23,1,23,2],[23,5,23,6],[23,7,23,8],[23,9,23,12],[23,15,23,16],[23,17,23,18],[25,2,25,18],[26,14,26,18],[0,12,0,18],[24,1,24,2],[24,5,24,6],[24,7,24,8],[24,9,24,12],[24,15,24,16],[24,17,24,18],[20,2,20,18],[21,2,21,18],[18,2,18,5],[18,6,18,10],[18,11,18,14],[18,16,18,17],[19,2,19,6]]}
[null,null,null,null,null,null,null,null,null,null,null,null,"（試験担当）"]
[]
["建 設 材 料 試 験 申 込 書\n（一軸圧縮試験用）"]
[]
[null,"北九州市長　武 内 和 久 様"]
[]
["申　込　者","住　所","〒",{"$f":"TEXT(入力シート!C8,\"###-####\")","v":"-"}]
[null,null,{"$f":"入力シート!C9&\"\"","v":""}]
[null,"会社名",{"$f":"入力シート!C10&\"\"","v":""}]
[null,"担当者",{"$f":"入力シート!C11&\"\"","v":""},null,null,null,null,null,"連絡先",null,null,null,null,{"$f":"入力シート!C12&\"\"","v":""}]
[null,null,null,null,null,null,null,null,null,null,null,null,null,{"$f":"入力シート!C13&\"\"","v":""}]
[1,"工事名",{"$f":"入力シート!C15&\"\"","v":""},null,null,null,null,null,null,null,null,null,null,null,null,null,null,"工事"]
[2,"工事場所",{"$f":"入力シート!C16&\"\"","v":""},null,null,"区",{"$f":"入力シート!E16&\"\"","v":""}]
[3,"工事監督課",{"$f":"入力シート!C17&\"\"","v":""}]
[4,"監督員",{"$f":"入力シート!C18&\"\"","v":""},null,null,null,null,null,5,"工　種",null,null,{"$f":"入力シート!C19&\"\"","v":""}]
[6,"使用部分",{"$f":"入力シート!C20&\"\"","v":""},null,null,null,null,null,7,"使用材料",null,null,{"$f":"入力シート!C21&\"\"","v":""}]
[8,"製造業者\n及び産地等",{"$f":"入力シート!C22&\"\"","v":""}]
[9,"基準値",{"$f":"入力シート!C23&\"\"","v":""},null,null,null,null,null,null,null,null,null,null,null,null,{"$f":"入力シート!F24&\"\"","v":""}]
[10,"打設日",{"$f":"TEXT(入力シート!D25&\"\",\"yyyy/m/d\")","v":""},null,null,null,{"$f":"TEXT(入力シート!D26&\"\",\"yyyy/m/d\")","v":""},null,null,null,null,null,null,null,null,"（",{"$f":"入力シート!F27","v":0},null,"）日"]
[11,"養生方法",null,null,null,null,null,{"$f":"入力シート!E28&\"\"","v":""}]
[12,"供試体の\n深　さ",{"$f":"入力シート!C29&\"\"","v":""}]
[13,"備　考",{"$f":"入力シート!C30&\"\"","v":""}]
[14," 一軸圧縮試験項目"]
[null,"試験名",null,"整理\n番号","単位","単価",null,"件数",null,"試験名",null,null,null,"整理\n番号","単位","単価",null,"件数"]
[null," ①一軸圧縮試験",null,"09","１\n試料","8,300円",null,{"$f":"入力シート!G31&\"\"","v":""},null," ②その他\n　　（再 交 付）",null,null,null,51,"件","300円",null,{"$f":"入力シート!G33&\"\"","v":""}]
[15,"通知方法"]
[null,null,null,null,null,null,null,null,null,null,null,null,null,null,{"$f":"入力シート!J35","v":0}]

{"sheet":"一軸圧縮_4申込者控","index":5,"n_rows":27,"n_cols":19,"rows_kept":27,"cut":false,"hidden":false,"merged":[[0,12,0,18],[2,0,2,18],[4,1,4,6],[6,0,10,0],[6,1,7,1],[6,3,6,5],[6,6,6,18],[7,2,7,18],[8,2,8,18],[9,1,10,1],[9,2,10,7],[9,8,10,11],[9,13,9,18],[10,13,10,18],[11,2,11,16],[11,17,11,18],[12,2,12,4],[12,6,12,18],[13,2,13,18],[14,2,14,7],[14,9,14,11],[14,12,14,18],[15,2,15,7],[15,9,15,11],[15,12,15,18],[16,2,16,18],[17,2,17,4],[17,5,17,14],[17,15,17,17],[18,2,18,5],[18,6,18,10],[18,11,18,14],[18,16,18,17],[19,2,19,6],[19,7,19,11],[19,12,19,18],[20,2,20,18],[21,2,21,18],[22,0,24,0],[22,1,22,18],[23,1,23,2],[23,5,23,6],[23,7,23,8],[23,9,23,12],[23,15,23,16],[23,17,23,18],[25,2,25,18],[26,14,26,18],[24,1,24,2],[24,5,24,6],[24,7,24,8],[24,9,24,12],[24,15,24,16],[24,17,24,18]]}
[null,null,null,null,null,null,null,null,null,null,null,null,"（申込者控）"]
[]
["建 設 材 料 試 験 申 込 書\n（一軸圧縮試験用）"]
[]
[null,"北九州市長　武 内 和 久 様"]
[]
["申　込　者","住　所","〒",{"$f":"TEXT(入力シート!C8,\"###-####\")","v":"-"}]
[null,null,{"$f":"入力シート!C9&\"\"","v":""}]
[null,"会社名",{"$f":"入力シート!C10&\"\"","v":""}]
[null,"担当者",{"$f":"入力シート!C11&\"\"","v":""},null,null,null,null,null,"連絡先",null,null,null,null,{"$f":"入力シート!C12&\"\"","v":""}]
[null,null,null,null,null,null,null,null,null,null,null,null,null,{"$f":"入力シート!C13&\"\"","v":""}]
[1,"工事名",{"$f":"入力シート!C15&\"\"","v":""},null,null,null,null,null,null,null,null,null,null,null,null,null,null,"工事"]
[2,"工事場所",{"$f":"入力シート!C16&\"\"","v":""},null,null,"区",{"$f":"入力シート!E16&\"\"","v":""}]
[3,"工事監督課",{"$f":"入力シート!C17&\"\"","v":""}]
[4,"監督員",{"$f":"入力シート!C18&\"\"","v":""},null,null,null,null,null,5,"工　種",null,null,{"$f":"入力シート!C19&\"\"","v":""}]
[6,"使用部分",{"$f":"入力シート!C20&\"\"","v":""},null,null,null,null,null,7,"使用材料",null,null,{"$f":"入力シート!C21&\"\"","v":""}]
[8,"製造業者\n及び産地等",{"$f":"入力シート!C22&\"\"","v":""}]
[9,"基準値",{"$f":"入力シート!C23&\"\"","v":""},null,null,null,null,null,null,null,null,null,null,null,null,{"$f":"入力シート!F24&\"\"","v":""}]
[10,"打設日",{"$f":"TEXT(入力シート!D25&\"\",\"yyyy/m/d\")","v":""},null,null,null,{"$f":"TEXT(入力シート!D26&\"\",\"yyyy/m/d\")","v":""},null,null,null,null,null,null,null,null,"（",{"$f":"入力シート!F27","v":0},null,"）日"]
[11,"養生方法",null,null,null,null,null,{"$f":"入力シート!E28&\"\"","v":""}]
[12,"供試体の\n深　さ",{"$f":"入力シート!C29&\"\"","v":""}]
[13,"備　考",{"$f":"入力シート!C30&\"\"","v":""}]
[14," 一軸圧縮試験項目"]
[null,"試験名",null,"整理\n番号","単位","単価",null,"件数",null,"試験名",null,null,null,"整理\n番号","単位","単価",null,"件数"]
[null," ①一軸圧縮試験",null,"09","１\n試料","8,300円",null,{"$f":"入力シート!G31&\"\"","v":""},null," ②その他\n　　（再 交 付）",null,null,null,51,"件","300円",null,{"$f":"入力シート!G33&\"\"","v":""}]
[15,"通知方法"]
[null,null,null,null,null,null,null,null,null,null,null,null,null,null,{"$f":"入力シート!J35","v":0}]

{"sheet":"一軸圧縮_5成績書","index":6,"n_rows":27,"n_cols":19,"rows_kept":27,"cut":false,"hidden":false,"merged":[[0,12,0,18],[2,0,2,18],[4,1,4,6],[6,0,10,0],[6,1,7,1],[6,3,6,5],[6,6,6,18],[7,2,7,18],[8,2,8,18],[9,1,10,1],[9,2,10,7],[9,8,10,11],[9,13,9,18],[10,13,10,18],[11,2,11,16],[11,17,11,18],[12,2,12,4],[12,6,12,18],[13,2,13,18],[14,2,14,7],[14,9,14,11],[14,12,14,18],[19,7,19,11],[19,12,19,18],[15,2,15,7],[15,9,15,11],[15,12,15,18],[16,2,16,18],[17,2,17,4],[17,5,17,14],[17,15,17,17],[22,0,24,0],[22,1,22,18],[23,1,23,2],[23,5,23,6],[23,7,23,8],[23,9,23,12],[23,15,23,16],[23,17,23,18],[25,2,25,18],[26,14,26,18],[4,8,4,17],[24,1,24,2],[24,5,24,6],[24,7,24,8],[24,9,24,12],[24,15,24,16],[24,17,24,18],[20,2,20,18],[21,2,21,18],[18,2,18,5],[18,6,18,10],[18,11,18,14],[18,16,18,17],[19,2,19,6]]}
[null,null,null,null,null,null,null,null,null,null,null,null,"（成 績 書）"]
[]
["建 設 材 料 試 験 成 績 書\n（一軸圧縮試験用）"]
[]
[null,"※試験結果は添付しています。",null,null,null,null,null,null,"北九州市長　武 内 和 久"]
[]
["申　込　者","住　所","〒",{"$f":"TEXT(入力シート!C8,\"###-####\")","v":"-"}]
[null,null,{"$f":"入力シート!C9&\"\"","v":""}]
[null,"会社名",{"$f":"入力シート!C10&\"\"","v":""}]
[null,"担当者",{"$f":"入力シート!C11&\"\"","v":""},null,null,null,null,null,"連絡先",null,null,null,null,{"$f":"入力シート!C12&\"\"","v":""}]
[null,null,null,null,null,null,null,null,null,null,null,null,null,{"$f":"入力シート!C13&\"\"","v":""}]
[1,"工事名",{"$f":"入力シート!C15&\"\"","v":""},null,null,null,null,null,null,null,null,null,null,null,null,null,null,"工事"]
[2,"工事場所",{"$f":"入力シート!C16&\"\"","v":""},null,null,"区",{"$f":"入力シート!E16&\"\"","v":""}]
[3,"工事監督課",{"$f":"入力シート!C17&\"\"","v":""}]
[4,"監督員",{"$f":"入力シート!C18&\"\"","v":""},null,null,null,null,null,5,"工　種",null,null,{"$f":"入力シート!C19&\"\"","v":""}]
[6,"使用部分",{"$f":"入力シート!C20&\"\"","v":""},null,null,null,null,null,7,"使用材料",null,null,{"$f":"入力シート!C21&\"\"","v":""}]
[8,"製造業者\n及び産地等",{"$f":"入力シート!C22&\"\"","v":""}]
[9,"基準値",{"$f":"入力シート!C23&\"\"","v":""},null,null,null,null,null,null,null,null,null,null,null,null,{"$f":"入力シート!F24&\"\"","v":""}]
[10,"打設日",{"$f":"TEXT(入力シート!D25&\"\",\"yyyy/m/d\")","v":""},null,null,null,{"$f":"TEXT(入力シート!D26&\"\",\"yyyy/m/d\")","v":""},null,null,null,null,null,null,null,null,"（",{"$f":"入力シート!F27","v":0},null,"）日"]
[11,"養生方法",null,null,null,null,null,{"$f":"入力シート!E28&\"\"","v":""}]
[12,"供試体の\n深　さ",{"$f":"入力シート!C29&\"\"","v":""}]
[13,"備　考",{"$f":"入力シート!C30&\"\"","v":""}]
[14," 一軸圧縮試験項目"]
[null,"試験名",null,"整理\n番号","単位","単価",null,"件数",null,"試験名",null,null,null,"整理\n番号","単位","単価",null,"件数"]
[null," ①一軸圧縮試験",null,"09","１\n試料","8,300円",null,{"$f":"入力シート!G31&\"\"","v":""},null," ②その他\n　　（再 交 付）",null,null,null,51,"件","300円",null,{"$f":"入力シート!G33&\"\"","v":""}]
[15,"通知方法"]
[null,null,null,null,null,null,null,null,null,null,null,null,null,null,{"$f":"入力シート!J35","v":0}]

{"sheet":"link","index":7,"n_rows":3,"n_cols":5,"rows_kept":3,"cut":false,"hidden":false,"merged":[[2,1,3,1]]}
[]
[null,null,"伺 "]
[null,"月　日","担 当","係 長","課 長"]