{"text_format":"1","workbook":"xlsx","n_sheets":8,"sheets":["入力シート","入力例","コンクリート等_1正","コンクリート等_2副","コンクリート等_3試験担当","コンクリート等_4申込者控","コンクリート等_5成績書","link"],"not_rendered":{"charts":0,"images":2,"macros":1,"external_links":0,"defined_names":7,"comments":0,"pivot_tables":0},"unopened":[],"bounds":{"document_bytes":16777216,"sheet_cells":100000,"rows_first":2000,"rows_last":500,"rows_between":2000,"halvings":0,"cell_chars":16384,"cell_head_chars":4096},"cells_cut":0,"cells_raw":0,"read":"whole","date_system":"1900"}

{"sheet":"入力シート","index":0,"n_rows":50,"n_cols":14,"rows_kept":50,"cut":false,"hidden":false,"merged":[[6,2,6,7],[7,2,7,7],[8,2,8,7],[9,2,9,7],[10,2,10,7],[1,1,1,10],[46,8,46,10],[45,2,45,8],[18,8,18,10],[17,8,17,10],[15,8,15,10],[39,10,40,10],[16,2,16,7],[16,8,16,10],[43,9,44,9],[34,8,34,10],[37,10,38,10],[35,10,36,10],[35,9,36,9],[37,9,38,9],[39,9,40,9],[43,10,44,10],[12,8,12,10],[20,8,20,10],[35,0,45,0],[35,8,36,8],[37,8,38,8],[39,8,40,8],[41,8,42,8],[43,8,44,8],[39,2,40,5],[35,1,45,1],[39,6,40,6],[39,7,40,7],[41,2,42,5],[41,6,42,6],[43,2,44,5],[43,6,44,6],[43,7,44,7],[37,2,38,5],[37,6,38,6],[37,7,38,7],[41,7,42,7],[34,2,34,7],[35,7,36,7],[19,8,19,10],[20,2,20,7],[21,2,21,7],[25,2,25,5],[25,6,25,7],[26,3,26,5],[31,8,33,10],[30,8,30,10],[29,8,29,10],[35,6,36,6],[35,2,36,5],[14,8,14,10],[21,8,21,10],[41,9,42,9],[25,8,26,10],[24,8,24,10],[23,8,23,10],[22,8,22,10],[27,8,28,10],[41,10,42,10],[31,1,33,1],[31,0,33,0],[32,4,32,7],[33,5,33,6],[25,0,26,0],[25,1,26,1],[30,4,30,5],[27,1,28,1],[27,0,28,0],[27,2,27,5],[27,6,27,7],[28,3,28,5],[29,2,29,5],[31,2,31,5],[0,11,1,15],[7,0,12,0],[14,2,14,6],[12,2,12,7],[22,1,24,1],[11,2,11,7],[15,4,15,7],[22,3,22,4],[23,3,23,4],[24,3,24,4],[22,5,22,7],[23,5,23,7],[24,5,24,7],[17,2,17,7],[18,2,18,7],[22,0,24,0],[19,2,19,7],[0,1,0,10],[11,8,11,10],[10,8,10,10],[9,8,9,10],[8,8,8,10],[7,8,7,10],[6,8,6,10]]}
[null,"建設材料試験申込書 入力シート",null,null,null,null,null,null,null,null,null,"　各シートの印刷は、入力シートの下に\n　一括印刷ボタンがあります。"]
[null," （コンクリート・セメントミルク・モルタル試験用）"]
[]
[null,"●赤い欄内に入力、またはチェックボックスにチェックを入れてください。"]
[null,"●英数字は半角で入力ください。"]
[]
[null,"項　目","記　入　欄",null,null,null,null,null,"備考"]
["申込者","〒",null,null,null,null,null,null,"※「-」を入れる"]
[null,"住　所"]
[null,"会社名"]
[null,"担当者"]
[null,"連絡先①",null,null,null,null,null,null,"※「-」を入れる"]
[null,"連絡先②",null,null,null,null,null,null,"※連絡先は携帯、１件のみでも可"]
[]
[1,"工事名",null,null,null,null,null,"工事"]
[2,"工事場所",null,"区",null,null,null,null,"※町名までを記入"]
[3,"工事監督課",null,null,null,null,null,null,"（記入例）\n建設局　東部整備事務所　工務第一課\n上下水道局 西部工事事務所 下水道課\n若松区役所　まちづくり整備課"]
[4,"監督員"]
[5,"工　種"]
[6,"打設部分"]
[7,"製造業者",null,null,null,null,null,null,null,null,null,null,"10. セメント種類"]
[8,"製造工場",null,null,null,null,null,null,null,null,null,null,"N",false]
[9,"基準値","呼び強度",null,null,"N/㎟",null,null,null,null,null,null,"BA",false]
[null,null,"スランプ",null,null,"㎝",null,null,null,null,null,null,"BB",false]
[null,null,"最大骨材寸法",null,null,"㎜",null,null,null,null,null,null,"H",false]
[10,"セメント種類",null,null,null,null,null,null,"※当てはまる内容にチェック\n※その他の場合は、その他欄を\n　　チェックして（　　）内に記入",null,null,null,"M",false]
[null,null,null,null,null,null,null,null,null,null,null,null,"その他",false]
[11,"コンクリート種類",null,null,null,null,null,null,"※当てはまる内容にチェック\n※その他の場合は、その他欄を\n　　チェックして（　　）内に記入"]
[null,null,null,null,null,null,null,null,null,null,null,null,"11. コンクリート種類"]
[12,"打設日",null,null,null,null,null,"曜","※西暦/月/日と曜日を記入",null,null,null,"無筋",false]
[13,"養生方法",null,null,null,null,null,null,"※標準でない場合は（　）内に記入",null,null,null,"有筋",false]
[14,"試験日",null,null,null,null,null,"曜","※西暦/月/日と曜日を記入\n\n\n※打設日から試験日までの日数は\n　自動計算",null,null,null,"舗装",false]
[null,null,null,"個",null,null,null,null,null,null,null,null,"その他",false]
[null,null,null,null,null,{"$f":"_xlfn.DAYS(C32,C30)","v":0}]
[15,"備　考",null,null,null,null,null,null,null,null,null,null,"13. 養生方法"]
[16,"コンクリート・セメントミルク・モルタル試験項目","①コンクリートの圧縮強度試験\n　　　整理番号: ２１／ 単位: ３本１組／ 単価: 3,500円",null,null,null,null,"件","計",{"$f":"G36*3500","v":0},"円",null,"標準",false]
[null,null,null,null,null,null,null,null,null,null,null,null,"その他",false]
[null,null,"②コンクリートの曲げ強度試験\n　　　整理番号: ２２／ 単位: ３本１組／ 単価: 3,500円",null,null,null,null,"件","計",{"$f":"G38*3500","v":0},"円"]
[null,null,null,null,null,null,null,null,null,null,null,null,"14. 試験日"]
[null,null,"③セメントミルクの圧縮強度試験\n　　　整理番号: ２３／ 単位: ３本１組／ 単価: 3,090円",null,null,null,null,"件","計",{"$f":"G40*3090","v":0},"円",null,"１週",false]
[null,null,null,null,null,null,null,null,null,null,null,null,"４週",false]
[null,null,"④モルタルの圧縮強度試験\n　　　整理番号: ２４／ 単位: ３本１組／ 単価: 3,090円",null,null,null,null,"件","計",{"$f":"G42*3090","v":0},"円",null,"その他",false]
[]
[null,null,"⑤その他（再交付）\n　　　整理番号: ５１／ 単位: 件／ 単価:　 300円",null,null,null,null,"件","計",{"$f":"G44*300","v":0},"円",null,"17. 通知方法"]
[null,null,null,null,null,null,null,null,null,null,null,null,"試験場渡し",false]
[null,null,"手数料合計",null,null,null,null,null,null,{"$f":"SUM(J36:J45)","v":0},"円",null,"郵送",false]
[17,"通知方法"]
[]
[null,null,null,null,null,null,"印刷プレビュー画面に移動します。"]
[null,null,null,null,null,null,"そこで左上の「印刷」ボタンを押すと各シートを印刷します。"]

{"sheet":"入力例","index":1,"n_rows":47,"n_cols":14,"rows_kept":47,"cut":false,"hidden":false,"merged":[[41,2,42,5],[41,6,42,6],[41,7,42,7],[41,8,42,8],[41,9,42,9],[16,2,16,7],[16,8,16,10],[45,2,45,8],[46,8,46,10],[43,2,44,5],[43,6,44,6],[43,7,44,7],[43,8,44,8],[43,9,44,9],[43,10,44,10],[41,10,42,10],[39,2,40,5],[39,6,40,6],[39,7,40,7],[39,8,40,8],[39,9,40,9],[23,5,23,7],[23,8,23,10],[24,3,24,4],[31,0,33,0],[31,1,33,1],[31,8,33,10],[32,4,32,7],[33,5,33,6],[29,2,29,5],[31,2,31,5],[37,10,38,10],[34,2,34,7],[34,8,34,10],[35,0,45,0],[35,1,45,1],[35,2,36,5],[35,6,36,6],[35,7,36,7],[35,8,36,8],[35,9,36,9],[35,10,36,10],[37,2,38,5],[37,6,38,6],[37,7,38,7],[37,8,38,8],[37,9,38,9],[39,10,40,10],[29,8,29,10],[30,4,30,5],[30,8,30,10],[27,8,28,10],[28,3,28,5],[25,2,25,5],[25,6,25,7],[25,8,26,10],[26,3,26,5],[22,0,24,0],[22,1,24,1],[22,3,22,4],[22,5,22,7],[22,8,22,10],[23,3,23,4],[27,0,28,0],[27,1,28,1],[27,2,27,5],[27,6,27,7],[25,0,26,0],[25,1,26,1],[14,2,14,6],[14,8,14,10],[15,4,15,7],[15,8,15,10],[24,5,24,7],[24,8,24,10],[0,1,0,10],[6,2,6,7],[6,8,6,10],[1,1,1,10],[17,2,17,7],[17,8,17,10],[18,2,18,7],[18,8,18,10],[19,2,19,7],[19,8,19,10],[20,2,20,7],[20,8,20,10],[21,2,21,7],[21,8,21,10],[7,0,12,0],[7,2,7,7],[7,8,7,10],[8,2,8,7],[8,8,8,10],[9,2,9,7],[9,8,9,10],[10,2,10,7],[10,8,10,10],[11,2,11,7],[11,8,11,10],[12,2,12,7],[12,8,12,10]]}
[null,"【入力例】　建設材料試験申込書 入力シート"]
[null," （コンクリート・セメントミルク・モルタル試験用）"]
[]
[null,"●赤い欄内に入力、またはチェックボックスにチェックを入れてください。"]
[null,"●英数字は半角で入力ください。"]
[]
[null,"項　目","記　入　欄",null,null,null,null,null,"備考"]
["申込者","〒","803-8501",null,null,null,null,null,"※「-」を入れる"]
[null,"住　所","北九州市小倉北区〇〇□□"]
[null,"会社名","株式会社　〇□"]
[null,"担当者","北九州　太郎"]
[null,"連絡先①","090-1111-2222",null,null,null,null,null,"※「-」を入れる"]
[null,"連絡先②","093-000-1234",null,null,null,null,null,"※連絡先は携帯、１件のみでも可"]
[]
[1,"工事名","〇△□",null,null,null,null,"工事"]
[2,"工事場所","小倉南","区","△△町",null,null,null,"※町名までを記入"]
[3,"工事監督課","建設局　東部整備事務所　工務第一課",null,null,null,null,null,"（記入例）\n建設局　東部整備事務所　工務第一課\n上下水道局 西部工事事務所 下水道課\n若松区役所　まちづくり整備課"]
[4,"監督員","北九　花子"]
[5,"工　種","基礎工"]
[6,"打設部分","△〇部　基礎"]
[7,"製造業者"]
[8,"製造工場"]
[9,"基準値","呼び強度",21,null,"N/㎟"]
[null,null,"スランプ",8,null,"㎝"]
[null,null,"最大骨材寸法",40,null,"㎜"]
[10,"セメント種類",null,null,null,null,null,null,"※当てはまる内容にチェック\n※その他の場合は、その他欄を\n　　チェックして（　　）内に記入"]
[]
[11,"コンクリート種類",null,null,null,null,null,null,"※当てはまる内容にチェック\n※その他の場合は、その他欄を\n　　チェックして（　　）内に記入"]
[]
[12,"打設日","2020-07-01",null,null,null,"水","曜","※西暦/月/日と曜日を記入"]
[13,"養生方法",null,null,null,null,null,null,"※標準でない場合は（　）内に記入"]
[14,"試験日","2020-07-29",null,null,null,"火","曜","※西暦/月/日と曜日を記入\n\n\n※打設日から試験日までの日数は\n　自動計算"]
[null,null,null,"個"]
[null,null,null,null,null,{"$f":"_xlfn.DAYS(C32,C30)","v":28}]
[15,"備　考"]
[16,"コンクリート・セメントミルク・モルタル試験項目","①コンクリートの圧縮強度試験\n　　　整理番号: ２１／ 単位: ３本１組／ 単価: 3,500円",null,null,null,1,"件","計",{"$f":"G36*3500","v":3500},"円"]
[]
[null,null,"②コンクリートの曲げ強度試験\n　　　整理番号: ２２／ 単位: ３本１組／ 単価: 3,500円",null,null,null,null,"件","計",{"$f":"G38*3500","v":0},"円"]
[]
[null,null,"③セメントミルクの圧縮強度試験\n　　　整理番号: ２３／ 単位: ３本１組／ 単価: 3,090円",null,null,null,null,"件","計",{"$f":"G40*3090","v":0},"円"]
[null,null,null,null,null,null,null,null,null,null,null,null,null,true]
[null,null,"④モルタルの圧縮強度試験\n　　　整理番号: ２４／ 単位: ３本１組／ 単価: 3,090円",null,null,null,null,"件","計",{"$f":"G42*3090","v":0},"円"]
[]
[null,null,"⑤その他（再交付）\n　　　整理番号: ５１／ 単位: 件／ 単価:　 300円",null,null,null,null,"件","計",{"$f":"G44*300","v":0},"円"]
[]
[null,null,"手数料合計",null,null,null,null,null,null,{"$f":"SUM(J36:J45)","v":3500},"円"]
[17,"通知方法"]

{"sheet":"コンクリート等_1正","index":2,"n_rows":31,"n_cols":19,"rows_kept":31,"cut":false,"hidden":false,"merged":[[29,2,29,18],[30,14,30,18],[15,2,15,18],[26,5,26,6],[27,5,27,6],[28,5,28,6],[22,8,22,9],[27,9,28,12],[25,9,25,12],[26,9,26,12],[23,2,23,18],[25,17,25,18],[26,17,26,18],[27,17,28,18],[22,16,22,17],[25,15,25,16],[0,15,0,18],[11,17,11,18],[11,2,11,16],[21,13,21,16],[6,3,6,5],[2,0,2,18],[7,2,7,18],[6,1,7,1],[6,0,10,0],[9,1,10,1],[9,8,10,11],[8,2,8,18],[16,12,16,18],[14,2,14,7],[14,12,14,18],[14,9,14,11],[18,0,19,0],[27,13,28,13],[27,14,28,14],[28,1,28,2],[28,7,28,8],[26,1,26,2],[26,7,26,8],[27,1,27,2],[27,7,27,8],[24,0,28,0],[24,1,24,18],[25,1,25,2],[25,7,25,8],[20,0,21,0],[22,11,22,14],[25,5,25,6],[26,15,26,16],[27,15,28,16],[16,9,16,11],[20,9,21,11],[20,13,20,18],[9,2,10,7],[20,1,21,1],[18,2,18,7],[20,6,21,6],[20,7,21,7],[20,2,21,5],[13,2,13,18],[12,2,12,4],[16,2,16,7],[20,8,21,8],[18,8,19,8],[22,2,22,5],[4,1,4,6],[6,6,6,18],[18,9,19,11],[19,5,19,7],[18,12,18,18],[19,15,19,18],[17,13,17,14],[17,15,17,17],[17,7,17,9],[17,10,17,11],[17,3,17,5],[10,13,10,18],[9,13,9,18],[12,6,12,18],[18,1,19,1]]}
[null,null,null,null,null,null,null,null,null,null,null,null,null,null,null,"（正）"]
[]
["建 設 材 料 試 験 申 込 書\n（コンクリート・セメントミルク・モルタル試験用）"]
[]
[null,"北九州市長　武 内 和 久 様"]
[]
["申　込　者","住　所","〒",{"$f":"TEXT(入力シート!C8,\"###-####\")","v":"-"}]
[null,null,{"$f":"入力シート!C9:H9&\"\"","v":""}]
[null,"会社名",{"$f":"入力シート!C10:H10&\"\"","v":""}]
[null,"担当者",{"$f":"入力シート!C11:H11&\"\"","v":""},null,null,null,null,null,"連絡先",null,null,null,null,{"$f":"入力シート!C12&\"\"","v":""}]
[null,null,null,null,null,null,null,null,null,null,null,null,null,{"$f":"入力シート!C13&\"\"","v":""}]
[1,"工事名",{"$f":"入力シート!C15:G15&\"\"","v":""},null,null,null,null,null,null,null,null,null,null,null,null,null,null,"工事"]
[2,"工事場所",{"$f":"入力シート!C16&\"\"","v":""},null,null,"区",{"$f":"入力シート!E16&\"\"","v":""}]
[3,"工事監督課",{"$f":"入力シート!C17&\"\"","v":""}]
[4,"監督員",{"$f":"入力シート!C18:H18&\"\"","v":""},null,null,null,null,null,5,"工　種",null,null,{"$f":"入力シート!C19&\"\"","v":""}]
[6,"打設部分",{"$f":"入力シート!C20&\"\"","v":""}]
[7,"製造業者",{"$f":"入力シート!C21&\"\"","v":""},null,null,null,null,null,8,"製造工場",null,null,{"$f":"入力シート!C22&\"\"","v":""}]
[9,"基準値","呼び\n強度",{"$f":"入力シート!D23&\"\"","v":""},null,null,"N/㎟","スランプ",null,null,{"$f":"入力シート!D24&\"\"","v":""},null,"㎝","最　　大\n骨材寸法",null,{"$f":"入力シート!D25&\"\"","v":""},null,null,"㎜"]
[10,"セメント\n種　　類",null,null,null,null,null,null,11,"コンクリート\n種　類"]
[null,null,null,null,null,{"$f":"入力シート!D27&\"\"","v":""},null,null,null,null,null,null,null,"そ の 他（",null,{"$f":"入力シート!D29&\"\"","v":""}]
[12,"打設日",{"$f":"TEXT(入力シート!C30&\"\",\"yyyy/m/d\")","v":""},null,null,null,{"$f":"入力シート!G30&\"\"","v":""},"曜",13,"養生方法",null,null,null,"標準養生"]
[null,null,null,null,null,null,null,null,null,null,null,null,null,{"$f":"入力シート!E31&\"\"","v":""},null,null,null,null,"養生"]
[14,"試験日",{"$f":"TEXT(入力シート!C32&\"\",\"yyyy/m/d\")","v":""},null,null,null,{"$f":"入力シート!G32&\"\"","v":""},"曜／",{"$f":"入力シート!C33&\"\"","v":""},null,"個／",null,null,null,null,"（",{"$f":"入力シート!F34","v":0},null,"）日"]
[15,"備　考",{"$f":"入力シート!C35&\"\"","v":""}]
[16," コンクリート・セメントミルク・モルタル試験項目"]
[null,"試験名",null,"整理\n番号","単位","単価",null,"件数",null,"試験名",null,null,null,"整理\n番号","単位","単価",null,"件数"]
[null," ①コンクリートの\n　 圧縮強度試験",null,21,"３本\n１組","3,500円",null,{"$f":"入力シート!G36&\"\"","v":""},null," ④モルタルの\n　 圧縮強度試験",null,null,null,24,"３本\n１組","3,090円",null,{"$f":"入力シート!G42&\"\"","v":""}]
[null," ②コンクリートの\n　 曲げ強度試験",null,22,"３本\n１組","3,500円",null,{"$f":"入力シート!G38&\"\"","v":""},null,"\n ⑤その他\n\n\n",null,null,null,51,"件","300円",null,{"$f":"入力シート!G44&\"\"","v":""}]
[null," ③セメントミルクの\n 　圧縮強度試験",null,23,"３本\n１組","3,090円",null,{"$f":"入力シート!G40&\"\"","v":""}]
[17,"通知方法"]
[null,null,null,null,null,null,null,null,null,null,null,null,null,null,{"$f":"入力シート!J46","v":0}]

{"sheet":"コンクリート等_2副","index":3,"n_rows":31,"n_cols":19,"rows_kept":31,"cut":false,"hidden":false,"merged":[[25,1,25,2],[30,14,30,18],[27,15,28,16],[27,17,28,18],[28,1,28,2],[28,5,28,6],[28,7,28,8],[29,2,29,18],[27,1,27,2],[27,5,27,6],[27,7,27,8],[27,9,28,12],[27,13,28,13],[27,14,28,14],[25,9,25,12],[25,15,25,16],[25,17,25,18],[26,5,26,6],[26,7,26,8],[26,9,26,12],[26,15,26,16],[26,17,26,18],[22,2,22,5],[26,1,26,2],[18,0,19,0],[18,1,19,1],[18,2,18,7],[25,5,25,6],[25,7,25,8],[23,2,23,18],[24,0,28,0],[20,9,21,11],[20,13,20,18],[21,13,21,16],[22,8,22,9],[22,11,22,14],[22,16,22,17],[24,1,24,18],[20,0,21,0],[20,1,21,1],[20,6,21,6],[20,7,21,7],[20,8,21,8],[20,2,21,5],[18,9,19,11],[18,12,18,18],[19,5,19,7],[19,15,19,18],[15,2,15,18],[16,2,16,7],[16,9,16,11],[16,12,16,18],[17,3,17,5],[17,7,17,9],[17,10,17,11],[17,13,17,14],[17,15,17,17],[18,8,19,8],[12,2,12,4],[12,6,12,18],[13,2,13,18],[14,2,14,7],[14,9,14,11],[14,12,14,18],[11,2,11,16],[11,17,11,18],[0,15,0,18],[4,1,4,6],[6,0,10,0],[6,1,7,1],[6,3,6,5],[6,6,6,18],[7,2,7,18],[8,2,8,18],[9,1,10,1],[9,2,10,7],[9,8,10,11],[9,13,9,18],[10,13,10,18],[2,0,3,18]]}
[null,null,null,null,null,null,null,null,null,null,null,null,null,null,null,"（副）"]
[]
["建 設 材 料 試 験 申 込 書\n（コンクリート・セメントミルク・モルタル試験用）"]
[]
[null,"北九州市長　武 内 和 久 様"]
[]
["申　込　者","住　所","〒",{"$f":"TEXT(入力シート!C8,\"###-####\")","v":"-"}]
[null,null,{"$f":"入力シート!C9:H9&\"\"","v":""}]
[null,"会社名",{"$f":"入力シート!C10:H10&\"\"","v":""}]
[null,"担当者",{"$f":"入力シート!C11:H11&\"\"","v":""},null,null,null,null,null,"連絡先",null,null,null,null,{"$f":"入力シート!C12&\"\"","v":""}]
[null,null,null,null,null,null,null,null,null,null,null,null,null,{"$f":"入力シート!C13&\"\"","v":""}]
[1,"工事名",{"$f":"入力シート!C15:G15&\"\"","v":""},null,null,null,null,null,null,null,null,null,null,null,null,null,null,"工事"]
[2,"工事場所",{"$f":"入力シート!C16&\"\"","v":""},null,null,"区",{"$f":"入力シート!E16&\"\"","v":""}]
[3,"工事監督課",{"$f":"入力シート!C17&\"\"","v":""}]
[4,"監督員",{"$f":"入力シート!C18:H18&\"\"","v":""},null,null,null,null,null,5,"工　種",null,null,{"$f":"入力シート!C19&\"\"","v":""}]
[6,"打設部分",{"$f":"入力シート!C20&\"\"","v":""}]
[7,"製造業者",{"$f":"入力シート!C21&\"\"","v":""},null,null,null,null,null,8,"製造工場",null,null,{"$f":"入力シート!C22&\"\"","v":""}]
[9,"基準値","呼び\n強度",{"$f":"入力シート!D23&\"\"","v":""},null,null,"N/㎟","スランプ",null,null,{"$f":"入力シート!D24&\"\"","v":""},null,"㎝","最　　大\n骨材寸法",null,{"$f":"入力シート!D25&\"\"","v":""},null,null,"㎜"]
[10,"セメント\n種　　類",null,null,null,null,null,null,11,"コンクリート\n種　類"]
[null,null,null,null,null,{"$f":"入力シート!D27&\"\"","v":""},null,null,null,null,null,null,null,"そ の 他（",null,{"$f":"入力シート!D29&\"\"","v":""}]
[12,"打設日",{"$f":"TEXT(入力シート!C30&\"\",\"yyyy/m/d\")","v":""},null,null,null,{"$f":"入力シート!G30&\"\"","v":""},"曜",13,"養生方法",null,null,null,"標準養生"]
[null,null,null,null,null,null,null,null,null,null,null,null,null,{"$f":"入力シート!E31&\"\"","v":""},null,null,null,null,"養生"]
[14,"試験日",{"$f":"TEXT(入力シート!C32&\"\",\"yyyy/m/d\")","v":""},null,null,null,{"$f":"入力シート!G32&\"\"","v":""},"曜／",{"$f":"入力シート!C33&\"\"","v":""},null,"個／",null,null,null,null,"（",{"$f":"入力シート!F34","v":0},null,"）日"]
[15,"備　考",{"$f":"入力シート!C35&\"\"","v":""}]
[16," コンクリート・セメントミルク・モルタル試験項目"]
[null,"試験名",null,"整理\n番号","単位","単価",null,"件数",null,"試験名",null,null,null,"整理\n番号","単位","単価",null,"件数"]
[null," ①コンクリートの\n　 圧縮強度試験",null,21,"３本\n１組","3,500円",null,{"$f":"入力シート!G36&\"\"","v":""},null," ④モルタルの\n　 圧縮強度試験",null,null,null,24,"３本\n１組","3,090円",null,{"$f":"入力シート!G42&\"\"","v":""}]
[null," ②コンクリートの\n　 曲げ強度試験",null,22,"３本\n１組","3,500円",null,{"$f":"入力シート!G38&\"\"","v":""},null,"\n ⑤その他\n\n\n",null,null,null,51,"件","300円",null,{"$f":"入力シート!G44&\"\"","v":""}]
[null," ③セメントミルクの\n 　圧縮強度試験",null,23,"３本\n１組","3,090円",null,{"$f":"入力シート!G40&\"\"","v":""}]
[17,"通知方法"]
[null,null,null,null,null,null,null,null,null,null,null,null,null,null,{"$f":"入力シート!J46","v":0}]

{"sheet":"コンクリート等_3試験担当","index":4,"n_rows":31,"n_cols":19,"rows_kept":31,"cut":false,"hidden":false,"merged":[[2,0,3,18],[20,9,21,11],[20,13,20,18],[21,13,21,16],[22,8,22,9],[22,11,22,14],[22,16,22,17],[18,0,19,0],[18,1,19,1],[18,2,18,7],[18,8,19,8],[20,0,21,0],[20,1,21,1],[20,6,21,6],[20,7,21,7],[20,8,21,8],[30,14,30,18],[0,12,0,18],[27,15,28,16],[27,17,28,18],[25,15,25,16],[25,17,25,18],[23,2,23,18],[28,1,28,2],[28,5,28,6],[28,7,28,8],[29,2,29,18],[27,1,27,2],[27,5,27,6],[27,7,27,8],[27,9,28,12],[27,13,28,13],[24,0,28,0],[24,1,24,18],[25,1,25,2],[25,5,25,6],[25,7,25,8],[25,9,25,12],[26,17,26,18],[26,1,26,2],[26,5,26,6],[26,7,26,8],[26,9,26,12],[26,15,26,16],[27,14,28,14],[20,2,21,5],[18,9,19,11],[18,12,18,18],[19,5,19,7],[19,15,19,18],[15,2,15,18],[16,2,16,7],[16,9,16,11],[16,12,16,18],[17,3,17,5],[17,7,17,9],[17,10,17,11],[17,13,17,14],[17,15,17,17],[12,6,12,18],[13,2,13,18],[14,2,14,7],[14,9,14,11],[14,12,14,18],[22,2,22,5],[4,1,4,6],[6,0,10,0],[6,1,7,1],[6,3,6,5],[6,6,6,18],[7,2,7,18],[8,2,8,18],[9,1,10,1],[9,2,10,7],[9,8,10,11],[9,13,9,18],[10,13,10,18],[11,2,11,16],[11,17,11,18],[12,2,12,4]]}
[null,null,null,null,null,null,null,null,null,null,null,null,"（試験担当）"]
[]
["建 設 材 料 試 験 申 込 書\n（コンクリート・セメントミルク・モルタル試験用）"]
[]
[null,"北九州市長　武 内 和 久 様"]
[]
["申　込　者","住　所","〒",{"$f":"TEXT(入力シート!C8,\"###-####\")","v":"-"}]
[null,null,{"$f":"入力シート!C9:H9&\"\"","v":""}]
[null,"会社名",{"$f":"入力シート!C10:H10&\"\"","v":""}]
[null,"担当者",{"$f":"入力シート!C11:H11&\"\"","v":""},null,null,null,null,null,"連絡先",null,null,null,null,{"$f":"入力シート!C12&\"\"","v":""}]
[null,null,null,null,null,null,null,null,null,null,null,null,null,{"$f":"入力シート!C13&\"\"","v":""}]
[1,"工事名",{"$f":"入力シート!C15:G15&\"\"","v":""},null,null,null,null,null,null,null,null,null,null,null,null,null,null,"工事"]
[2,"工事場所",{"$f":"入力シート!C16&\"\"","v":""},null,null,"区",{"$f":"入力シート!E16&\"\"","v":""}]
[3,"工事監督課",{"$f":"入力シート!C17&\"\"","v":""}]
[4,"監督員",{"$f":"入力シート!C18:H18&\"\"","v":""},null,null,null,null,null,5,"工　種",null,null,{"$f":"入力シート!C19&\"\"","v":""}]
[6,"打設部分",{"$f":"入力シート!C20&\"\"","v":""}]
[7,"製造業者",{"$f":"入力シート!C21&\"\"","v":""},null,null,null,null,null,8,"製造工場",null,null,{"$f":"入力シート!C22&\"\"","v":""}]
[9,"基準値","呼び\n強度",{"$f":"入力シート!D23&\"\"","v":""},null,null,"N/㎟","スランプ",null,null,{"$f":"入力シート!D24&\"\"","v":""},null,"㎝","最　　大\n骨材寸法",null,{"$f":"入力シート!D25&\"\"","v":""},null,null,"㎜"]
[10,"セメント\n種　　類",null,null,null,null,null,null,11,"コンクリート\n種　類"]
[null,null,null,null,null,{"$f":"入力シート!D27&\"\"","v":""},null,null,null,null,null,null,null,"そ の 他（",null,{"$f":"入力シート!D29&\"\"","v":""}]
[12,"打設日",{"$f":"TEXT(入力シート!C30&\"\",\"yyyy/m/d\")","v":""},null,null,null,{"$f":"入力シート!G30&\"\"","v":""},"曜",13,"養生方法",null,null,null,"標準養生"]
[null,null,null,null,null,null,null,null,null,null,null,null,null,{"$f":"入力シート!E31&\"\"","v":""},null,null,null,null,"養生"]
[14,"試験日",{"$f":"TEXT(入力シート!C32&\"\",\"yyyy/m/d\")","v":""},null,null,null,{"$f":"入力シート!G32&\"\"","v":""},"曜／",{"$f":"入力シート!C33&\"\"","v":""},null,"個／",null,null,null,null,"（",{"$f":"入力シート!F34","v":0},null,"）日"]
[15,"備　考",{"$f":"入力シート!C35&\"\"","v":""}]
[16," コンクリート・セメントミルク・モルタル試験項目"]
[null,"試験名",null,"整理\n番号","単位","単価",null,"件数",null,"試験名",null,null,null,"整理\n番号","単位","単価",null,"件数"]
[null," ①コンクリートの\n　 圧縮強度試験",null,21,"３本\n１組","3,500円",null,{"$f":"入力シート!G36&\"\"","v":""},null," ④モルタルの\n　 圧縮強度試験",null,null,null,24,"３本\n１組","3,090円",null,{"$f":"入力シート!G42&\"\"","v":""}]
[null," ②コンクリートの\n　 曲げ強度試験",null,22,"３本\n１組","3,500円",null,{"$f":"入力シート!G38&\"\"","v":""},null,"\n ⑤その他\n\n\n",null,null,null,51,"件","300円",null,{"$f":"入力シート!G44&\"\"","v":""}]
[null," ③セメントミルクの\n 　圧縮強度試験",null,23,"３本\n１組","3,090円",null,{"$f":"入力シート!G40&\"\"","v":""}]
[17,"通知方法"]
[null,null,null,null,null,null,null,null,null,null,null,null,null,null,{"$f":"入力シート!J46","v":0}]

{"sheet":"コンクリート等_4申込者控","index":5,"n_rows":31,"n_cols":19,"rows_kept":31,"cut":false,"hidden":false,"merged":[[25,1,25,2],[30,14,30,18],[27,15,28,16],[27,17,28,18],[28,1,28,2],[28,5,28,6],[28,7,28,8],[29,2,29,18],[27,1,27,2],[27,5,27,6],[27,7,27,8],[27,9,28,12],[27,13,28,13],[27,14,28,14],[25,9,25,12],[25,15,25,16],[25,17,25,18],[26,5,26,6],[26,7,26,8],[26,9,26,12],[26,15,26,16],[26,17,26,18],[22,2,22,5],[26,1,26,2],[18,0,19,0],[18,1,19,1],[18,2,18,7],[25,5,25,6],[25,7,25,8],[23,2,23,18],[24,0,28,0],[20,9,21,11],[20,13,20,18],[21,13,21,16],[22,8,22,9],[22,11,22,14],[22,16,22,17],[24,1,24,18],[20,0,21,0],[20,1,21,1],[20,6,21,6],[20,7,21,7],[20,8,21,8],[20,2,21,5],[18,9,19,11],[18,12,18,18],[19,5,19,7],[19,15,19,18],[15,2,15,18],[16,2,16,7],[16,9,16,11],[16,12,16,18],[17,3,17,5],[17,7,17,9],[17,10,17,11],[17,13,17,14],[17,15,17,17],[18,8,19,8],[12,2,12,4],[12,6,12,18],[13,2,13,18],[14,2,14,7],[14,9,14,11],[14,12,14,18],[11,2,11,16],[11,17,11,18],[0,12,0,18],[4,1,4,6],[6,0,10,0],[6,1,7,1],[6,3,6,5],[6,6,6,18],[7,2,7,18],[8,2,8,18],[9,1,10,1],[9,2,10,7],[9,8,10,11],[9,13,9,18],[10,13,10,18],[2,0,3,18]]}
[null,null,null,null,null,null,null,null,null,null,null,null,"（申込者控）"]
[]
["建 設 材 料 試 験 申 込 書\n（コンクリート・セメントミルク・モルタル試験用）"]
[]
[null,"北九州市長　武 内 和 久 様"]
[]
["申　込　者","住　所","〒",{"$f":"TEXT(入力シート!C8,\"###-####\")","v":"-"}]
[null,null,{"$f":"入力シート!C9:H9&\"\"","v":""}]
[null,"会社名",{"$f":"入力シート!C10:H10&\"\"","v":""}]
[null,"担当者",{"$f":"入力シート!C11:H11&\"\"","v":""},null,null,null,null,null,"連絡先",null,null,null,null,{"$f":"入力シート!C12&\"\"","v":""}]
[null,null,null,null,null,null,null,null,null,null,null,null,null,{"$f":"入力シート!C13&\"\"","v":""}]
[1,"工事名",{"$f":"入力シート!C15:G15&\"\"","v":""},null,null,null,null,null,null,null,null,null,null,null,null,null,null,"工事"]
[2,"工事場所",{"$f":"入力シート!C16&\"\"","v":""},null,null,"区",{"$f":"入力シート!E16&\"\"","v":""}]
[3,"工事監督課",{"$f":"入力シート!C17&\"\"","v":""}]
[4,"監督員",{"$f":"入力シート!C18:H18&\"\"","v":""},null,null,null,null,null,5,"工　種",null,null,{"$f":"入力シート!C19&\"\"","v":""}]
[6,"打設部分",{"$f":"入力シート!C20&\"\"","v":""}]
[7,"製造業者",{"$f":"入力シート!C21&\"\"","v":""},null,null,null,null,null,8,"製造工場",null,null,{"$f":"入力シート!C22&\"\"","v":""}]
[9,"基準値","呼び\n強度",{"$f":"入力シート!D23&\"\"","v":""},null,null,"N/㎟","スランプ",null,null,{"$f":"入力シート!D24&\"\"","v":""},null,"㎝","最　　大\n骨材寸法",null,{"$f":"入力シート!D25&\"\"","v":""},null,null,"㎜"]
[10,"セメント\n種　　類",null,null,null,null,null,null,11,"コンクリート\n種　類"]
[null,null,null,null,null,{"$f":"入力シート!D27&\"\"","v":""},null,null,null,null,null,null,null,"そ の 他（",null,{"$f":"入力シート!D29&\"\"","v":""}]
[12,"打設日",{"$f":"TEXT(入力シート!C30&\"\",\"yyyy/m/d\")","v":""},null,null,null,{"$f":"入力シート!G30&\"\"","v":""},"曜",13,"養生方法",null,null,null,"標準養生"]
[null,null,null,null,null,null,null,null,null,null,null,null,null,{"$f":"入力シート!E31&\"\"","v":""},null,null,null,null,"養生"]
[14,"試験日",{"$f":"TEXT(入力シート!C32&\"\",\"yyyy/m/d\")","v":""},null,null,null,{"$f":"入力シート!G32&\"\"","v":""},"曜／",{"$f":"入力シート!C33&\"\"","v":""},null,"個／",null,null,null,null,"（",{"$f":"入力シート!F34","v":0},null,"）日"]
[15,"備　考",{"$f":"入力シート!C35&\"\"","v":""}]
[16," コンクリート・セメントミルク・モルタル試験項目"]
[null,"試験名",null,"整理\n番号","単位","単価",null,"件数",null,"試験名",null,null,null,"整理\n番号","単位","単価",null,"件数"]
[null," ①コンクリートの\n　 圧縮強度試験",null,21,"３本\n１組","3,500円",null,{"$f":"入力シート!G36&\"\"","v":""},null," ④モルタルの\n　 圧縮強度試験",null,null,null,24,"３本\n１組","3,090円",null,{"$f":"入力シート!G42&\"\"","v":""}]
[null," ②コンクリートの\n　 曲げ強度試験",null,22,"３本\n１組","3,500円",null,{"$f":"入力シート!G38&\"\"","v":""},null,"\n ⑤その他\n\n\n",null,null,null,51,"件","300円",null,{"$f":"入力シート!G44&\"\"","v":""}]
[null," ③セメントミルクの\n 　圧縮強度試験",null,23,"３本\n１組","3,090円",null,{"$f":"入力シート!G40&\"\"","v":""}]
[17,"通知方法"]
[null,null,null,null,null,null,null,null,null,null,null,null,null,null,{"$f":"入力シート!J46","v":0}]

{"sheet":"コンクリート等_5成績書","index":6,"n_rows":31,"n_cols":19,"rows_kept":31,"cut":false,"hidden":false,"merged":[[29,2,29,18],[27,1,27,2],[27,5,27,6],[27,7,27,8],[27,9,28,12],[27,13,28,13],[27,14,28,14],[30,14,30,18],[4,8,4,17],[27,15,28,16],[27,17,28,18],[25,15,25,16],[25,17,25,18],[20,9,21,11],[20,13,20,18],[21,13,21,16],[22,8,22,9],[22,11,22,14],[22,16,22,17],[23,2,23,18],[28,1,28,2],[28,5,28,6],[28,7,28,8],[24,0,28,0],[24,1,24,18],[25,1,25,2],[25,5,25,6],[25,7,25,8],[25,9,25,12],[26,17,26,18],[26,1,26,2],[26,5,26,6],[26,7,26,8],[26,9,26,12],[26,15,26,16],[18,0,19,0],[18,1,19,1],[18,2,18,7],[18,8,19,8],[20,0,21,0],[20,1,21,1],[20,6,21,6],[20,7,21,7],[20,8,21,8],[20,2,21,5],[18,9,19,11],[18,12,18,18],[19,5,19,7],[19,15,19,18],[15,2,15,18],[16,2,16,7],[16,9,16,11],[16,12,16,18],[17,3,17,5],[17,7,17,9],[17,10,17,11],[17,13,17,14],[17,15,17,17],[11,17,11,18],[12,2,12,4],[12,6,12,18],[13,2,13,18],[14,2,14,7],[14,9,14,11],[14,12,14,18],[22,2,22,5],[0,12,0,18],[2,0,2,18],[4,1,4,6],[6,0,10,0],[6,1,7,1],[6,3,6,5],[6,6,6,18],[7,2,7,18],[8,2,8,18],[9,1,10,1],[9,2,10,7],[9,8,10,11],[9,13,9,18],[10,13,10,18],[11,2,11,16]]}
[null,null,null,null,null,null,null,null,null,null,null,null,"（成 績 書）"]
[]
["建 設 材 料 試 験 成 績 書\n（コンクリート・セメントミルク・モルタル試験用）"]
[]
[null,"※試験結果は添付しています。",null,null,null,null,null,null,"北九州市長　武 内 和 久"]
[]
["申　込　者","住　所","〒",{"$f":"TEXT(入力シート!C8,\"###-####\")","v":"-"}]
[null,null,{"$f":"入力シート!C9:H9&\"\"","v":""}]
[null,"会社名",{"$f":"入力シート!C10:H10&\"\"","v":""}]
[null,"担当者",{"$f":"入力シート!C11:H11&\"\"","v":""},null,null,null,null,null,"連絡先",null,null,null,null,{"$f":"入力シート!C12&\"\"","v":""}]
[null,null,null,null,null,null,null,null,null,null,null,null,null,{"$f":"入力シート!C13&\"\"","v":""}]
[1,"工事名",{"$f":"入力シート!C15:G15&\"\"","v":""},null,null,null,null,null,null,null,null,null,null,null,null,null,null,"工事"]
[2,"工事場所",{"$f":"入力シート!C16&\"\"","v":""},null,null,"区",{"$f":"入力シート!E16&\"\"","v":""}]
[3,"工事監督課",{"$f":"入力シート!C17&\"\"","v":""}]
[4,"監督員",{"$f":"入力シート!C18:H18&\"\"","v":""},null,null,null,null,null,5,"工　種",null,null,{"$f":"入力シート!C19&\"\"","v":""}]
[6,"打設部分",{"$f":"入力シート!C20&\"\"","v":""}]
[7,"製造業者",{"$f":"入力シート!C21&\"\"","v":""},null,null,null,null,null,8,"製造工場",null,null,{"$f":"入力シート!C22&\"\"","v":""}]
[9,"基準値","呼び\n強度",{"$f":"入力シート!D23&\"\"","v":""},null,null,"N/㎟","スランプ",null,null,{"$f":"入力シート!D24&\"\"","v":""},null,"㎝","最　　大\n骨材寸法",null,{"$f":"入力シート!D25&\"\"","v":""},null,null,"㎜"]
[10,"セメント\n種　　類",null,null,null,null,null,null,11,"コンクリート\n種　類"]
[null,null,null,null,null,{"$f":"入力シート!D27&\"\"","v":""},null,null,null,null,null,null,null,"そ の 他（",null,{"$f":"入力シート!D29&\"\"","v":""}]
[12,"打設日",{"$f":"TEXT(入力シート!C30&\"\",\"yyyy/m/d\")","v":""},null,null,null,{"$f":"入力シート!G30&\"\"","v":""},"曜",13,"養生方法",null,null,null,"標準養生"]
[null,null,null,null,null,null,null,null,null,null,null,null,null,{"$f":"入力シート!E31&\"\"","v":""},null,null,null,null,"養生"]
[14,"試験日",{"$f":"TEXT(入力シート!C32&\"\",\"yyyy/m/d\")","v":""},null,null,null,{"$f":"入力シート!G32&\"\"","v":""},"曜／",{"$f":"入力シート!C33&\"\"","v":""},null,"個／",null,null,null,null,"（",{"$f":"入力シート!F34","v":0},null,"）日"]
[15,"備　考",{"$f":"入力シート!C35&\"\"","v":""}]
[16," コンクリート・セメントミルク・モルタル試験項目"]
[null,"試験名",null,"整理\n番号","単位","単価",null,"件数",null,"試験名",null,null,null,"整理\n番号","単位","単価",null,"件数"]
[null," ①コンクリートの\n　 圧縮強度試験",null,21,"３本\n１組","3,500円",null,{"$f":"入力シート!G36&\"\"","v":""},null," ④モルタルの\n　 圧縮強度試験",null,null,null,24,"３本\n１組","3,090円",null,{"$f":"入力シート!G42&\"\"","v":""}]
[null," ②コンクリートの\n　 曲げ強度試験",null,22,"３本\n１組","3,500円",null,{"$f":"入力シート!G38&\"\"","v":""},null,"\n ⑤その他\n\n\n",null,null,null,51,"件","300円",null,{"$f":"入力シート!G44&\"\"","v":""}]
[null," ③セメントミルクの\n 　圧縮強度試験",null,23,"３本\n１組","3,090円",null,{"$f":"入力シート!G40&\"\"","v":""}]
[17,"通知方法"]
[null,null,null,null,null,null,null,null,null,null,null,null,null,null,{"$f":"入力シート!J46","v":0}]

{"sheet":"link","index":7,"n_rows":3,"n_cols":5,"rows_kept":3,"cut":false,"hidden":false,"merged":[[2,1,3,1]]}
[]
[null,null,"伺 （通知）"]
[null,"月　日","担 当","係 長","課 長"]