{"text_format":"1","workbook":"xlsx","n_sheets":8,"sheets":["入力シート","入力例","鋼材_1正","鋼材_2副","鋼材_3試験担当","鋼材_4申込者控","鋼材_5成績書","link"],"not_rendered":{"charts":0,"images":4,"macros":1,"external_links":0,"defined_names":7,"comments":0,"pivot_tables":0},"unopened":[],"bounds":{"document_bytes":16777216,"sheet_cells":100000,"rows_first":2000,"rows_last":500,"rows_between":2000,"halvings":0,"cell_chars":16384,"cell_head_chars":4096},"cells_cut":0,"cells_raw":0,"read":"whole","date_system":"1900"}

{"sheet":"入力シート","index":0,"n_rows":37,"n_cols":14,"rows_kept":37,"cut":false,"hidden":false,"merged":[[0,11,1,15],[23,0,24,0],[23,1,24,1],[19,2,19,7],[20,2,20,7],[21,2,21,7],[23,2,23,5],[23,6,23,7],[22,2,22,7],[7,0,12,0],[14,2,14,6],[12,2,12,7],[11,2,11,7],[15,4,15,7],[21,8,21,10],[22,8,22,10],[30,9,31,9],[30,10,31,10],[24,3,24,5],[25,2,25,7],[26,10,27,10],[26,9,27,9],[28,9,29,9],[25,8,25,10],[26,0,32,0],[26,8,27,8],[28,8,29,8],[30,8,31,8],[26,1,32,1],[30,2,31,5],[30,6,31,6],[30,7,31,7],[26,7,27,7],[26,6,27,6],[26,2,27,5],[28,2,29,5],[28,6,29,6],[28,7,29,7],[0,1,0,10],[1,1,1,10],[16,8,16,10],[8,8,8,10],[7,8,7,10],[6,8,6,10],[6,2,6,7],[7,2,7,7],[8,2,8,7],[9,2,9,7],[10,2,10,7],[16,2,16,7],[33,8,33,10],[32,2,32,8],[11,8,11,10],[10,8,10,10],[9,8,9,10],[18,8,18,10],[17,8,17,10],[15,8,15,10],[14,8,14,10],[12,8,12,10],[19,8,19,10],[17,2,17,7],[18,2,18,7],[20,8,20,10],[23,8,24,10],[28,10,29,10]]}
[null,"建設材料試験申込書 入力シート",null,null,null,null,null,null,null,null,null,"　各シートの印刷は、入力シートの下に\n　一括印刷ボタンがあります。"]
[null," （鋼材試験用）"]
[]
[null,"●赤い欄内に入力、またはチェックボックスにチェックを入れてください。"]
[null,"●英数字は半角で入力ください。"]
[]
[null,"項　目","記　入　欄",null,null,null,null,null,"備考"]
["申込者","〒",null,null,null,null,null,null,"※「-」を入れる"]
[null,"住　所"]
[null,"会社名"]
[null,"担当者"]
[null,"連絡先①",null,null,null,null,null,null,"※「-」を入れる"]
[null,"連絡先②",null,null,null,null,null,null,"※連絡先は携帯、１件のみでも可"]
[]
[1,"工事名",null,null,null,null,null,"工事"]
[2,"工事場所",null,"区",null,null,null,null,"※町名までを記入"]
[3,"工事監督課",null,null,null,null,null,null,"（記入例）\n建設局　東部整備事務所　工務第一課\n上下水道局 西部工事事務所 下水道課\n若松区役所　まちづくり整備課"]
[4,"監督員"]
[5,"工　種"]
[6,"使用部分"]
[7,"鋼材の種類",null,null,null,null,null,null,null,null,null,null,"10. 試験項目"]
[8,"製造業者",null,null,null,null,null,null,null,null,null,null,"ガス圧接継手",false]
[9,"コンクリート打設日",null,null,null,null,null,null,"※月日（曜）を記入",null,null,null,"棒　鋼",false]
[10,"試験項目",null,null,null,null,null,null,"※当てはまる内容にチェック\n※その他の場合は、その他欄を\n　　チェックして（　　）内に記入",null,null,null,"引張試験",false]
[null,null,null,null,null,null,null,null,null,null,null,null,"曲げ試験",false]
[11,"備　考",null,null,null,null,null,null,null,null,null,null,"その他",false]
[12,"鋼材試験項目","①ガス圧接継手試験・引張試験\n　　　整理番号: ４１／ 単位: １本／ 単価: 1,450円",null,null,null,null,"件","計",{"$f":"G27*1450","v":0},"円"]
[null,null,null,null,null,null,null,null,null,null,null,null,"14. 通知方法"]
[null,null,"②母材の曲げ試験\n　　　整理番号: ４２／ 単位: １本／ 単価: 1,450円",null,null,null,null,"件","計",{"$f":"G29*1450","v":0},"円",null,"試験場",false]
[null,null,null,null,null,null,null,null,null,null,null,null,"郵送",false]
[null,null,"③その他（再交付）\n　　　整理番号: ５１／ 単位: 件 ／ 単価: 　300円",null,null,null,null,"件","計",{"$f":"G31*300","v":0},"円"]
[]
[null,null,"手数料合計",null,null,null,null,null,null,{"$f":"SUM(J27:J32)","v":0},"円"]
[13,"通知方法"]
[]
[null,null,null,null,null,null,"印刷プレビュー画面に移動します。"]
[null,null,null,null,null,null,"そこで左上の「印刷」ボタンを押すと各シートを印刷します。"]

{"sheet":"入力例","index":1,"n_rows":34,"n_cols":11,"rows_kept":34,"cut":false,"hidden":false,"merged":[[32,2,32,8],[33,8,33,10],[30,2,31,5],[30,6,31,6],[30,7,31,7],[30,8,31,8],[30,9,31,9],[30,10,31,10],[28,10,29,10],[25,2,25,7],[25,8,25,10],[26,0,32,0],[26,1,32,1],[26,2,27,5],[26,6,27,6],[26,7,27,7],[26,8,27,8],[26,9,27,9],[26,10,27,10],[28,2,29,5],[28,6,29,6],[28,7,29,7],[28,8,29,8],[28,9,29,9],[23,0,24,0],[23,1,24,1],[23,2,23,5],[23,6,23,7],[23,8,24,10],[24,3,24,5],[20,2,20,7],[20,8,20,10],[21,2,21,7],[21,8,21,10],[22,2,22,7],[22,8,22,10],[17,2,17,7],[17,8,17,10],[18,2,18,7],[18,8,18,10],[19,2,19,7],[19,8,19,10],[14,2,14,6],[14,8,14,10],[15,4,15,7],[15,8,15,10],[16,2,16,7],[16,8,16,10],[0,1,0,10],[0,11,1,15],[1,1,1,10],[6,2,6,7],[6,8,6,10],[7,0,12,0],[7,2,7,7],[7,8,7,10],[8,2,8,7],[8,8,8,10],[9,2,9,7],[9,8,9,10],[10,2,10,7],[10,8,10,10],[11,2,11,7],[11,8,11,10],[12,2,12,7],[12,8,12,10]]}
[null,"【入力例】　建設材料試験申込書 入力シート"]
[null," （鋼材試験用）"]
[]
[null,"●赤い欄内に入力、またはチェックボックスにチェックを入れてください。"]
[null,"●英数字は半角で入力ください。"]
[]
[null,"項　目","記　入　欄",null,null,null,null,null,"備考"]
["申込者","〒","803-0813",null,null,null,null,null,"※「-」を入れる"]
[null,"住　所","北九州市小倉北区〇〇□□"]
[null,"会社名","株式会社　〇□"]
[null,"担当者","北九州　太郎"]
[null,"連絡先①","090-1111-2222",null,null,null,null,null,"※「-」を入れる"]
[null,"連絡先②","093-000-1234",null,null,null,null,null,"※連絡先は携帯、１件のみでも可"]
[]
[1,"工事名","〇△□",null,null,null,null,"工事"]
[2,"工事場所","小倉南","区","△△町",null,null,null,"※町名までを記入"]
[3,"工事監督課","建設局　東部整備事務所　工務第一課",null,null,null,null,null,"（記入例）\n建設局　東部整備事務所　工務第一課\n上下水道局 西部工事事務所 下水道課\n若松区役所　まちづくり整備課"]
[4,"監督員","北九　花子"]
[5,"工　種","橋梁下部工"]
[6,"使用部分","橋脚"]
[7,"鋼材の種類","SD345"]
[8,"製造業者","〇△□製鉄株式会社"]
[9,"コンクリート打設日","12月12日（水）",null,null,null,null,null,"※月日（曜）を記入"]
[10,"試験項目",null,null,null,null,null,null,"※当てはまる内容にチェック\n※その他の場合は、その他欄を\n　　チェックして（　　）内に記入"]
[]
[11,"備　考"]
[12,"鋼材試験項目","①ガス圧接継手試験・引張試験\n　　　整理番号: ４１／ 単位: １本／ 単価: 1,450円",null,null,null,1,"件","計",{"$f":"G27*1450","v":1450},"円"]
[]
[null,null,"②母材の曲げ試験\n　　　整理番号: ４２／ 単位: １本／ 単価: 1,450円",null,null,null,1,"件","計",{"$f":"G29*1450","v":1450},"円"]
[]
[null,null,"③その他（再交付）\n　　　整理番号: ５１／ 単位: 件 ／ 単価: 　300円",null,null,null,null,"件","計",{"$f":"G31*300","v":0},"円"]
[]
[null,null,"手数料合計",null,null,null,null,null,null,{"$f":"SUM(J27:J32)","v":2900},"円"]
[13,"通知方法"]

{"sheet":"鋼材_1正","index":2,"n_rows":25,"n_cols":18,"rows_kept":25,"cut":false,"hidden":false,"merged":[[16,0,17,0],[21,1,21,2],[21,7,21,8],[22,1,22,2],[22,7,22,8],[19,0,22,0],[19,1,19,18],[20,1,20,2],[20,7,20,8],[20,5,20,6],[21,5,21,6],[22,5,22,6],[20,9,20,12],[20,17,20,18],[20,15,20,16],[21,9,22,12],[5,0,9,0],[8,1,9,1],[8,8,9,11],[7,2,7,18],[8,2,9,7],[9,13,9,18],[5,6,5,18],[8,13,8,18],[23,2,23,18],[24,14,24,18],[0,15,0,18],[10,17,10,18],[10,2,10,16],[5,3,5,5],[6,2,6,18],[14,2,14,7],[14,9,14,11],[14,12,14,18],[18,2,18,18],[3,1,3,6],[16,1,17,1],[17,4,17,9],[17,2,17,3],[16,2,16,18],[15,2,15,7],[15,9,15,11],[15,12,15,18],[2,1,2,11],[21,13,22,13],[21,14,22,14],[21,15,22,16],[21,17,22,18],[17,10,17,18],[5,1,6,1],[11,6,11,18],[11,2,11,4],[12,2,12,18],[13,2,13,7],[13,12,13,18],[13,9,13,11]]}
[null,null,null,null,null,null,null,null,null,null,null,null,null,null,null,"（正）"]
[]
[null,"建 設 材 料 試 験 申 込 書\n（鋼材試験用）"]
[null,"北九州市長　武 内 和 久 様"]
[]
["申　込　者","住　所","〒",{"$f":"TEXT(入力シート!C8,\"###-####\")","v":"-"}]
[null,null,{"$f":"入力シート!C9&\"\"","v":""}]
[null,"会社名",{"$f":"入力シート!C10&\"\"","v":""}]
[null,"担当者",{"$f":"入力シート!C11&\"\"","v":""},null,null,null,null,null,"連絡先",null,null,null,null,{"$f":"入力シート!C12&\"\"","v":""}]
[null,null,null,null,null,null,null,null,null,null,null,null,null,{"$f":"入力シート!C13&\"\"","v":""}]
[1,"工事名",{"$f":"入力シート!C15&\"\"","v":""},null,null,null,null,null,null,null,null,null,null,null,null,null,null,"工事"]
[2,"工事場所",{"$f":"入力シート!C16&\"\"","v":""},null,null,"区",{"$f":"入力シート!E16&\"\"","v":""}]
[3,"工事監督課",{"$f":"入力シート!C17&\"\"","v":""}]
[4,"監督員",{"$f":"入力シート!C18&\"\"","v":""},null,null,null,null,null,5,"工　種",null,null,{"$f":"入力シート!C19&\"\"","v":""}]
[6,"使用部分",{"$f":"入力シート!C20&\"\"","v":""},null,null,null,null,null,7,"鋼材の種類",null,null,{"$f":"入力シート!C21&\"\"","v":""}]
[8,"製造業者",{"$f":"入力シート!C22&\"\"","v":""},null,null,null,null,null,9,"コンクリート\n打設日",null,null,{"$f":"入力シート!C23&\"\"","v":""}]
[10,"試験項目"]
[null,null,null,null,{"$f":"入力シート!D25&\"\"","v":""},null,null,null,null,null," ）"]
[11,"備　考",{"$f":"入力シート!C26&\"\"","v":""}]
[12," 鋼材試験項目",null,null,null,null,null,null,null,null,null,null,null,false]
[null,"試験名",null,"整理\n番号","単位","単価",null,"件数",null,"試験名",null,null,null,"整理\n番号","単位","単価",null,"件数"]
[null," ①ガス圧接継手試験\n　 ・引張試験",null,41,"１本","1,450円",null,{"$f":"入力シート!G27&\"\"","v":""},null," ③その他\n　 （再 交 付）",null,null,null,51,"件","300円",null,{"$f":"入力シート!G31&\"\"","v":""}]
[null," ②母材の曲げ試験",null,42,"１本","1,450円",null,{"$f":"入力シート!G29&\"\"","v":""}]
[13,"通知方法"]
[null,null,null,null,null,null,null,null,null,null,null,null,null,null,{"$f":"入力シート!J33","v":0}]

{"sheet":"鋼材_2副","index":3,"n_rows":25,"n_cols":18,"rows_kept":25,"cut":false,"hidden":false,"merged":[[24,14,24,18],[21,5,21,6],[21,7,21,8],[21,9,22,12],[21,13,22,13],[21,14,22,14],[21,15,22,16],[21,17,22,18],[22,5,22,6],[22,7,22,8],[23,2,23,18],[18,2,18,18],[19,0,22,0],[19,1,19,18],[20,1,20,2],[20,5,20,6],[20,7,20,8],[20,9,20,12],[20,15,20,16],[20,17,20,18],[21,1,21,2],[22,1,22,2],[15,2,15,7],[15,9,15,11],[15,12,15,18],[16,0,17,0],[16,1,17,1],[16,2,16,18],[17,2,17,3],[17,4,17,9],[17,10,17,18],[13,2,13,7],[13,9,13,11],[13,12,13,18],[14,2,14,7],[14,9,14,11],[14,12,14,18],[10,2,10,16],[10,17,10,18],[11,2,11,4],[11,6,11,18],[12,2,12,18],[0,15,0,18],[2,1,2,11],[3,1,3,6],[5,0,9,0],[5,1,6,1],[5,3,5,5],[5,6,5,18],[6,2,6,18],[7,2,7,18],[8,1,9,1],[8,2,9,7],[8,8,9,11],[8,13,8,18],[9,13,9,18]]}
[null,null,null,null,null,null,null,null,null,null,null,null,null,null,null,"（副）"]
[]
[null,"建 設 材 料 試 験 申 込 書\n（鋼材試験用）"]
[null,"北九州市長　武 内 和 久 様"]
[]
["申　込　者","住　所","〒",{"$f":"TEXT(入力シート!C8,\"###-####\")","v":"-"}]
[null,null,{"$f":"入力シート!C9&\"\"","v":""}]
[null,"会社名",{"$f":"入力シート!C10&\"\"","v":""}]
[null,"担当者",{"$f":"入力シート!C11&\"\"","v":""},null,null,null,null,null,"連絡先",null,null,null,null,{"$f":"入力シート!C12&\"\"","v":""}]
[null,null,null,null,null,null,null,null,null,null,null,null,null,{"$f":"入力シート!C13&\"\"","v":""}]
[1,"工事名",{"$f":"入力シート!C15&\"\"","v":""},null,null,null,null,null,null,null,null,null,null,null,null,null,null,"工事"]
[2,"工事場所",{"$f":"入力シート!C16&\"\"","v":""},null,null,"区",{"$f":"入力シート!E16&\"\"","v":""}]
[3,"工事監督課",{"$f":"入力シート!C17&\"\"","v":""}]
[4,"監督員",{"$f":"入力シート!C18&\"\"","v":""},null,null,null,null,null,5,"工　種",null,null,{"$f":"入力シート!C19&\"\"","v":""}]
[6,"使用部分",{"$f":"入力シート!C20&\"\"","v":""},null,null,null,null,null,7,"鋼材の種類",null,null,{"$f":"入力シート!C21&\"\"","v":""}]
[8,"製造業者",{"$f":"入力シート!C22&\"\"","v":""},null,null,null,null,null,9,"コンクリート\n打設日",null,null,{"$f":"入力シート!C23&\"\"","v":""}]
[10,"試験項目"]
[null,null,null,null,{"$f":"入力シート!D25&\"\"","v":""},null,null,null,null,null," ）"]
[11,"備　考",{"$f":"入力シート!C26&\"\"","v":""}]
[12," 鋼材試験項目",null,null,null,null,null,null,null,null,null,null,null,false]
[null,"試験名",null,"整理\n番号","単位","単価",null,"件数",null,"試験名",null,null,null,"整理\n番号","単位","単価",null,"件数"]
[null," ①ガス圧接継手試験\n　 ・引張試験",null,41,"１本","1,450円",null,{"$f":"入力シート!G27&\"\"","v":""},null," ③その他\n　 （再 交 付）",null,null,null,51,"件","300円",null,{"$f":"入力シート!G31&\"\"","v":""}]
[null," ②母材の曲げ試験",null,42,"１本","1,450円",null,{"$f":"入力シート!G29&\"\"","v":""}]
[13,"通知方法"]
[null,null,null,null,null,null,null,null,null,null,null,null,null,null,{"$f":"入力シート!J33","v":0}]

{"sheet":"鋼材_3試験担当","index":4,"n_rows":25,"n_cols":18,"rows_kept":25,"cut":false,"hidden":false,"merged":[[0,12,0,18],[2,0,2,18],[21,17,22,18],[22,1,22,2],[22,5,22,6],[22,7,22,8],[18,2,18,18],[19,0,22,0],[19,1,19,18],[20,1,20,2],[20,5,20,6],[20,7,20,8],[20,9,20,12],[20,15,20,16],[20,17,20,18],[16,0,17,0],[23,2,23,18],[24,14,24,18],[21,5,21,6],[21,7,21,8],[21,9,22,12],[21,13,22,13],[21,14,22,14],[21,15,22,16],[21,1,21,2],[15,2,15,7],[15,9,15,11],[15,12,15,18],[16,1,17,1],[16,2,16,18],[17,2,17,3],[17,4,17,9],[17,10,17,18],[13,2,13,7],[13,9,13,11],[13,12,13,18],[14,2,14,7],[14,9,14,11],[14,12,14,18],[10,2,10,16],[10,17,10,18],[11,2,11,4],[11,6,11,18],[12,2,12,18],[3,1,3,6],[5,0,9,0],[5,1,6,1],[5,3,5,5],[5,6,5,18],[6,2,6,18],[7,2,7,18],[8,1,9,1],[8,2,9,7],[8,8,9,11],[8,13,8,18],[9,13,9,18]]}
[null,null,null,null,null,null,null,null,null,null,null,null,"（試験担当）"]
[]
["建 設 材 料 試 験 申 込 書\n（鋼材試験用）"]
[null,"北九州市長　武 内 和 久 様"]
[]
["申　込　者","住　所","〒",{"$f":"TEXT(入力シート!C8,\"###-####\")","v":"-"}]
[null,null,{"$f":"入力シート!C9&\"\"","v":""}]
[null,"会社名",{"$f":"入力シート!C10&\"\"","v":""}]
[null,"担当者",{"$f":"入力シート!C11&\"\"","v":""},null,null,null,null,null,"連絡先",null,null,null,null,{"$f":"入力シート!C12&\"\"","v":""}]
[null,null,null,null,null,null,null,null,null,null,null,null,null,{"$f":"入力シート!C13&\"\"","v":""}]
[1,"工事名",{"$f":"入力シート!C15&\"\"","v":""},null,null,null,null,null,null,null,null,null,null,null,null,null,null,"工事"]
[2,"工事場所",{"$f":"入力シート!C16&\"\"","v":""},null,null,"区",{"$f":"入力シート!E16&\"\"","v":""}]
[3,"工事監督課",{"$f":"入力シート!C17&\"\"","v":""}]
[4,"監督員",{"$f":"入力シート!C18&\"\"","v":""},null,null,null,null,null,5,"工　種",null,null,{"$f":"入力シート!C19&\"\"","v":""}]
[6,"使用部分",{"$f":"入力シート!C20&\"\"","v":""},null,null,null,null,null,7,"鋼材の種類",null,null,{"$f":"入力シート!C21&\"\"","v":""}]
[8,"製造業者",{"$f":"入力シート!C22&\"\"","v":""},null,null,null,null,null,9,"コンクリート\n打設日",null,null,{"$f":"入力シート!C23&\"\"","v":""}]
[10,"試験項目"]
[null,null,null,null,{"$f":"入力シート!D25&\"\"","v":""},null,null,null,null,null," ）"]
[11,"備　考",{"$f":"入力シート!C26&\"\"","v":""}]
[12," 鋼材試験項目",null,null,null,null,null,null,null,null,null,null,null,false]
[null,"試験名",null,"整理\n番号","単位","単価",null,"件数",null,"試験名",null,null,null,"整理\n番号","単位","単価",null,"件数"]
[null," ①ガス圧接継手試験\n　 ・引張試験",null,41,"１本","1,450円",null,{"$f":"入力シート!G27&\"\"","v":""},null," ③その他\n　 （再 交 付）",null,null,null,51,"件","300円",null,{"$f":"入力シート!G31&\"\"","v":""}]
[null," ②母材の曲げ試験",null,42,"１本","1,450円",null,{"$f":"入力シート!G29&\"\"","v":""}]
[13,"通知方法"]
[null,null,null,null,null,null,null,null,null,null,null,null,null,null,{"$f":"入力シート!J33","v":0}]

{"sheet":"鋼材_4申込者控","index":5,"n_rows":25,"n_cols":18,"rows_kept":25,"cut":false,"hidden":false,"merged":[[24,14,24,18],[21,5,21,6],[21,7,21,8],[21,9,22,12],[21,13,22,13],[21,14,22,14],[21,15,22,16],[21,17,22,18],[22,5,22,6],[22,7,22,8],[23,2,23,18],[18,2,18,18],[19,0,22,0],[19,1,19,18],[20,1,20,2],[20,5,20,6],[20,7,20,8],[20,9,20,12],[20,15,20,16],[20,17,20,18],[21,1,21,2],[22,1,22,2],[15,2,15,7],[15,9,15,11],[15,12,15,18],[16,0,17,0],[16,1,17,1],[16,2,16,18],[17,2,17,3],[17,4,17,9],[17,10,17,18],[13,2,13,7],[13,9,13,11],[13,12,13,18],[14,2,14,7],[14,9,14,11],[14,12,14,18],[10,2,10,16],[10,17,10,18],[11,2,11,4],[11,6,11,18],[12,2,12,18],[0,12,0,18],[2,0,2,18],[3,1,3,6],[5,0,9,0],[5,1,6,1],[5,3,5,5],[5,6,5,18],[6,2,6,18],[7,2,7,18],[8,1,9,1],[8,2,9,7],[8,8,9,11],[8,13,8,18],[9,13,9,18]]}
[null,null,null,null,null,null,null,null,null,null,null,null,"（申込者控）"]
[]
["建 設 材 料 試 験 申 込 書\n（鋼材試験用）"]
[null,"北九州市長　武 内 和 久 様"]
[]
["申　込　者","住　所","〒",{"$f":"TEXT(入力シート!C8,\"###-####\")","v":"-"}]
[null,null,{"$f":"入力シート!C9&\"\"","v":""}]
[null,"会社名",{"$f":"入力シート!C10&\"\"","v":""}]
[null,"担当者",{"$f":"入力シート!C11&\"\"","v":""},null,null,null,null,null,"連絡先",null,null,null,null,{"$f":"入力シート!C12&\"\"","v":""}]
[null,null,null,null,null,null,null,null,null,null,null,null,null,{"$f":"入力シート!C13&\"\"","v":""}]
[1,"工事名",{"$f":"入力シート!C15&\"\"","v":""},null,null,null,null,null,null,null,null,null,null,null,null,null,null,"工事"]
[2,"工事場所",{"$f":"入力シート!C16&\"\"","v":""},null,null,"区",{"$f":"入力シート!E16&\"\"","v":""}]
[3,"工事監督課",{"$f":"入力シート!C17&\"\"","v":""}]
[4,"監督員",{"$f":"入力シート!C18&\"\"","v":""},null,null,null,null,null,5,"工　種",null,null,{"$f":"入力シート!C19&\"\"","v":""}]
[6,"使用部分",{"$f":"入力シート!C20&\"\"","v":""},null,null,null,null,null,7,"鋼材の種類",null,null,{"$f":"入力シート!C21&\"\"","v":""}]
[8,"製造業者",{"$f":"入力シート!C22&\"\"","v":""},null,null,null,null,null,9,"コンクリート\n打設日",null,null,{"$f":"入力シート!C23&\"\"","v":""}]
[10,"試験項目"]
[null,null,null,null,{"$f":"入力シート!D25&\"\"","v":""},null,null,null,null,null," ）"]
[11,"備　考",{"$f":"入力シート!C26&\"\"","v":""}]
[12," 鋼材試験項目",null,null,null,null,null,null,null,null,null,null,null,false]
[null,"試験名",null,"整理\n番号","単位","単価",null,"件数",null,"試験名",null,null,null,"整理\n番号","単位","単価",null,"件数"]
[null," ①ガス圧接継手試験\n　 ・引張試験",null,41,"１本","1,450円",null,{"$f":"入力シート!G27&\"\"","v":""},null," ③その他\n　 （再 交 付）",null,null,null,51,"件","300円",null,{"$f":"入力シート!G31&\"\"","v":""}]
[null," ②母材の曲げ試験",null,42,"１本","1,450円",null,{"$f":"入力シート!G29&\"\"","v":""}]
[13,"通知方法"]
[null,null,null,null,null,null,null,null,null,null,null,null,null,null,{"$f":"入力シート!J33","v":0}]

{"sheet":"鋼材_5成績書","index":6,"n_rows":25,"n_cols":18,"rows_kept":25,"cut":false,"hidden":false,"merged":[[18,2,18,18],[14,2,14,7],[14,9,14,11],[14,12,14,18],[15,2,15,7],[15,9,15,11],[15,12,15,18],[23,2,23,18],[24,14,24,18],[21,5,21,6],[21,7,21,8],[21,9,22,12],[21,13,22,13],[21,14,22,14],[21,15,22,16],[21,17,22,18],[22,1,22,2],[22,5,22,6],[22,7,22,8],[19,0,22,0],[19,1,19,18],[20,1,20,2],[20,5,20,6],[20,7,20,8],[20,9,20,12],[20,15,20,16],[20,17,20,18],[21,1,21,2],[16,0,17,0],[16,1,17,1],[16,2,16,18],[17,2,17,3],[17,4,17,9],[17,10,17,18],[13,9,13,11],[13,12,13,18],[8,2,9,7],[8,8,9,11],[8,13,8,18],[9,13,9,18],[10,2,10,16],[10,17,10,18],[11,2,11,4],[11,6,11,18],[12,2,12,18],[13,2,13,7],[0,12,0,18],[2,0,2,18],[3,1,3,6],[5,0,9,0],[5,1,6,1],[5,3,5,5],[5,6,5,18],[6,2,6,18],[7,2,7,18],[8,1,9,1],[3,8,3,17]]}
[null,null,null,null,null,null,null,null,null,null,null,null,"（成 績 書）"]
[]
["建 設 材 料 試 験 成 績 書\n（鋼材試験用）"]
[null,"※試験結果は添付しています。",null,null,null,null,null,null,"北九州市長　武 内 和 久"]
[]
["申　込　者","住　所","〒",{"$f":"TEXT(入力シート!C8,\"###-####\")","v":"-"}]
[null,null,{"$f":"入力シート!C9&\"\"","v":""}]
[null,"会社名",{"$f":"入力シート!C10&\"\"","v":""}]
[null,"担当者",{"$f":"入力シート!C11&\"\"","v":""},null,null,null,null,null,"連絡先",null,null,null,null,{"$f":"入力シート!C12&\"\"","v":""}]
[null,null,null,null,null,null,null,null,null,null,null,null,null,{"$f":"入力シート!C13&\"\"","v":""}]
[1,"工事名",{"$f":"入力シート!C15&\"\"","v":""},null,null,null,null,null,null,null,null,null,null,null,null,null,null,"工事"]
[2,"工事場所",{"$f":"入力シート!C16&\"\"","v":""},null,null,"区",{"$f":"入力シート!E16&\"\"","v":""}]
[3,"工事監督課",{"$f":"入力シート!C17&\"\"","v":""}]
[4,"監督員",{"$f":"入力シート!C18&\"\"","v":""},null,null,null,null,null,5,"工　種",null,null,{"$f":"入力シート!C19&\"\"","v":""}]
[6,"使用部分",{"$f":"入力シート!C20&\"\"","v":""},null,null,null,null,null,7,"鋼材の種類",null,null,{"$f":"入力シート!C21&\"\"","v":""}]
[8,"製造業者",{"$f":"入力シート!C22&\"\"","v":""},null,null,null,null,null,9,"コンクリート\n打設日",null,null,{"$f":"入力シート!C23&\"\"","v":""}]
[10,"試験項目"]
[null,null,null,null,{"$f":"入力シート!D25&\"\"","v":""},null,null,null,null,null," ）"]
[11,"備　考",{"$f":"入力シート!C26&\"\"","v":""}]
[12," 鋼材試験項目",null,null,null,null,null,null,null,null,null,null,null,false]
[null,"試験名",null,"整理\n番号","単位","単価",null,"件数",null,"試験名",null,null,null,"整理\n番号","単位","単価",null,"件数"]
[null," ①ガス圧接継手試験\n　 ・引張試験",null,41,"１本","1,450円",null,{"$f":"入力シート!G27&\"\"","v":""},null," ③その他\n　 （再 交 付）",null,null,null,51,"件","300円",null,{"$f":"入力シート!G31&\"\"","v":""}]
[null," ②母材の曲げ試験",null,42,"１本","1,450円",null,{"$f":"入力シート!G29&\"\"","v":""}]
[13,"通知方法"]
[null,null,null,null,null,null,null,null,null,null,null,null,null,null,{"$f":"入力シート!J33","v":0}]

{"sheet":"link","index":7,"n_rows":8,"n_cols":5,"rows_kept":8,"cut":false,"hidden":false,"merged":[[2,1,3,1],[7,1,8,1]]}
[]
[null,null,"伺 （受付）"]
[null,"月　日","担 当","係 長","課 長"]
[]
[]
[]
[null,null,"伺 （通知）"]
[null,"月　日","担 当","係 長","課 長"]