Workbook

Sheet 表1
A1: 5 周産期死亡
A4: 表１ 周産期死亡数
B5: (区･妊娠週数・妊娠満22週以後の死産-早期新生児死亡）
B6: =IF(B8=表6!B4,"","突合エラー") | C6: =IF(C8=表6!B5,"","突合エラー") | D6: =IF(D8=表6!B6,"","突合エラー") | E6: =IF(E8=表6!B7,"","突合エラー") | F6: =IF(F8=表6!B8,"","突合エラー") | G6: =IF(G8=表6!B9,"","突合エラー") | H6: =IF(H8=表6!B10,"","突合エラー")
A7: 区 | B7: 総数 | C7: 22～27週 | D7: 28～31週 | E7: 32～35週 | F7: 36～39週 | G7: 40～43週 | H7: 不詳
A8: 総 数 | B8: 27 | C8: 8 | D8: 5 | E8: 5 | F8: 9 | G8: 0 | H8: 0
A9: 門 司 区 | B9: 1 | C9: 0 | D9: 1 | E9: 0 | F9: 0 | G9: 0 | H9: 0
A10: 小倉北区 | B10: 7 | C10: 3 | D10: 0 | E10: 2 | F10: 2 | G10: 0 | H10: 0
A11: 小倉南区 | B11: 8 | C11: 1 | D11: 3 | E11: 1 | F11: 3 | G11: 0 | H11: 0
A12: 若 松 区 | B12: 1 | C12: 1 | D12: 0 | E12: 0 | F12: 0 | G12: 0 | H12: 0
A13: 八幡東区 | B13: 1 | C13: 1 | D13: 0 | E13: 0 | F13: 0 | G13: 0 | H13: 0
A14: 八幡西区 | B14: 7 | C14: 1 | D14: 1 | E14: 2 | F14: 3 | G14: 0 | H14: 0
A15: 戸 畑 区 | B15: 2 | C15: 1 | D15: 0 | E15: 0 | F15: 1 | G15: 0 | H15: 0
A17: 妊娠満22週以後の死産 | B17: 21 | C17: 8 | D17: 3 | E17: 3 | F17: 7 | G17: 0 | H17: 0
A18: 門 司 区 | B18: 1 | C18: - | D18: 1 | E18: - | F18: - | G18: - | H18: 0
A19: 小倉北区 | B19: 5 | C19: 3 | D19: - | E19: 2 | F19: - | G19: - | H19: 0
A20: 小倉南区 | B20: 6 | C20: 1 | D20: 2 | E20: - | F20: 3 | G20: - | H20: 0
A21: 若 松 区 | B21: 1 | C21: 1 | D21: - | E21: - | F21: - | G21: - | H21: 0
A22: 八幡東区 | B22: 1 | C22: 1 | D22: - | E22: - | F22: - | G22: - | H22: 0
A23: 八幡西区 | B23: 5 | C23: 1 | D23: - | E23: 1 | F23: 3 | G23: - | H23: 0
A24: 戸 畑 区 | B24: 2 | C24: 1 | D24: - | E24: - | F24: 1 | G24: - | H24: 0
A26: 早期新生児死亡 | B26: 6 | C26: 0 | D26: 2 | E26: 2 | F26: 2 | G26: 0 | H26: 0
A27: 門 司 区 | B27: 0 | C27: - | D27: - | E27: - | F27: - | G27: 0 | H27: 0
A28: 小倉北区 | B28: 2 | C28: - | D28: - | E28: - | F28: 2 | G28: - | H28: 0
A29: 小倉南区 | B29: 2 | C29: - | D29: 1 | E29: 1 | F29: - | G29: 0 | H29: 0
A30: 若 松 区 | B30: 0 | C30: - | D30: - | E30: - | F30: - | G30: 0 | H30: 0
A31: 八幡東区 | B31: 0 | C31: - | D31: - | E31: - | F31: - | G31: 0 | H31: 0
A32: 八幡西区 | B32: 2 | C32: - | D32: 1 | E32: 1 | F32: - | G32: 0 | H32: 0
A33: 戸 畑 区 | B33: 0 | C33: - | D33: - | E33: - | F33: - | G33: 0 | H33: 0

Sheet 表2
A1: 表２ 周産期死亡数(区･出生時の体重・妊娠満22週以後の死産-早期新生児死亡）
B2: =IF(AND(B4=表3!B4,B4=表6!B4),"","total-err!!") | C2: =IF(AND(C4=表3!C4,C4=表6!C4),"","total-err!!") | D2: =IF(AND(D4=表3!D4,D4=表6!D4),"","total-err!!") | E2: =IF(AND(E4=表3!E4,E4=表6!E4),"","total-err!!") | F2: =IF(AND(F4=表3!F4,F4=表6!F4),"","total-err!!") | G2: =IF(AND(G4=表3!G4,G4=表6!G4),"","total-err!!") | H2: =IF(AND(H4=表3!H4,H4=表6!H4),"","total-err!!") | I2: =IF(AND(I4=表3!I4,I4=表6!I4),"","total-err!!") | ... M2: =IF(AND(M4=表3!M4,M4=表6!M4),"","total-err!!")
A3: 区 | B3: 総数 | C3: 1000g 未満 | D3: 1000～ 1499ｇ | E3: 1500～ 1999ｇ | F3: 2000～ 2499ｇ | G3: 2500g未満(再掲) | H3: 2500～ 2999ｇ | I3: 3000～ 3499ｇ | J3: 3500～ 3999ｇ | K3: 4000ｇ以上 | L3: 不詳 | M3: 出産時の平均体重（ｇ）
A4: 総 数 | B4: 27 | C4: 12 | D4: 4 | E4: 5 | F4: 4 | G4: 25 | H4: 2 | I4: 0 | J4: 0 | K4: 0 | L4: 0 | M4: 1297.7407
A5: 門 司 区 | B5: 1 | C5: 0 | D5: 1 | E5: 0 | F5: 0 | G5: 1 | H5: 0 | I5: 0 | J5: 0 | K5: 0 | L5: 0 | M5: 1006
A6: 小倉北区 | B6: 7 | C6: 3 | D6: 1 | E6: 1 | F6: 1 | G6: 6 | H6: 1 | I6: 0 | J6: 0 | K6: 0 | L6: 0 | M6: 1389.2857
A7: 小倉南区 | B7: 8 | C7: 4 | D7: 0 | E7: 2 | F7: 1 | G7: 7 | H7: 1 | I7: 0 | J7: 0 | K7: 0 | L7: 0 | M7: 1255.5
A8: 若 松 区 | B8: 1 | C8: 1 | D8: 0 | E8: 0 | F8: 0 | G8: 1 | H8: 0 | I8: 0 | J8: 0 | K8: 0 | L8: 0 | M8: 840
A9: 八幡東区 | B9: 1 | C9: 1 | D9: 0 | E9: 0 | F9: 0 | G9: 1 | H9: 0 | I9: 0 | J9: 0 | K9: 0 | L9: 0 | M9: 145
A10: 八幡西区 | B10: 7 | C10: 2 | D10: 2 | E10: 2 | F10: 1 | G10: 7 | H10: 0 | I10: 0 | J10: 0 | K10: 0 | L10: 0 | M10: 1507.2857
A11: 戸 畑 区 | B11: 2 | C11: 1 | D11: 0 | E11: 0 | F11: 1 | G11: 2 | H11: 0 | I11: 0 | J11: 0 | K11: 0 | L11: 0 | M11: 1364
A13: 妊娠満22週以後の死産 | B13: 21 | C13: 11 | D13: 3 | E13: 3 | F13: 3 | G13: 20 | H13: 1 | I13: 0 | J13: 0 | K13: 0 | L13: 0 | M13: 1141.0952
A14: 門 司 区 | B14: 1 | C14: - | D14: 1 | E14: - | F14: - | G14: 1 | H14: - | I14: - | J14: - | K14: - | L14: - | M14: 1006
A15: 小倉北区 | B15: 5 | C15: 3 | D15: 1 | E15: 1 | F15: - | G15: 5 | H15: - | I15: - | J15: - | K15: - | L15: - | M15: 876.6
A16: 小倉南区 | B16: 6 | C16: 3 | D16: - | E16: 1 | F16: 1 | G16: 5 | H16: 1 | I16: - | J16: - | K16: - | L16: - | M16: 1256.3333
A17: 若 松 区 | B17: 1 | C17: 1 | D17: - | E17: - | F17: - | G17: 1 | H17: - | I17: - | J17: - | K17: - | L17: - | M17: 840
A18: 八幡東区 | B18: 1 | C18: 1 | D18: - | E18: - | F18: - | G18: 1 | H18: - | I18: - | J18: - | K18: - | L18: - | M18: 145
A19: 八幡西区 | B19: 5 | C19: 2 | D19: 1 | E19: 1 | F19: 1 | G19: 5 | H19: - | I19: - | J19: - | K19: - | L19: - | M19: 1464.6
A20: 戸 畑 区 | B20: 2 | C20: 1 | D20: - | E20: - | F20: 1 | G20: 2 | H20: - | I20: - | J20: - | K20: - | L20: - | M20: 1364
A22: 早期新生児死亡 | B22: 6 | C22: 1 | D22: 1 | E22: 2 | F22: 1 | G22: 5 | H22: 1 | I22: 0 | J22: 0 | K22: 0 | L22: 0 | M22: 1846
A23: 門 司 区 | B23: 0 | C23: - | D23: - | E23: - | F23: - | G23: 0 | H23: - | I23: - | J23: - | K23: - | L23: - | M23: -
A24: 小倉北区 | B24: 2 | C24: - | D24: - | E24: - | F24: 1 | G24: 1 | H24: 1 | I24: - | J24: - | K24: - | L24: - | M24: 2671
A25: 小倉南区 | B25: 2 | C25: 1 | D25: - | E25: 1 | F25: - | G25: 2 | H25: - | I25: - | J25: - | K25: - | L25: - | M25: 1253
A26: 若 松 区 | B26: 0 | C26: - | D26: - | E26: - | F26: - | G26: 0 | H26: - | I26: - | J26: - | K26: - | L26: - | M26: -
A27: 八幡東区 | B27: 0 | C27: - | D27: - | E27: - | F27: - | G27: 0 | H27: - | I27: - | J27: - | K27: - | L27: - | M27: -
A28: 八幡西区 | B28: 2 | C28: - | D28: 1 | E28: 1 | F28: - | G28: 2 | H28: - | I28: - | J28: - | K28: - | L28: - | M28: 1614
A29: 戸 畑 区 | B29: 0 | C29: - | D29: - | E29: - | F29: - | G29: 0 | H29: - | I29: - | J29: - | K29: - | L29: - | M29: -

Sheet 表3
A1: 表３ 周産期死亡数 －総数－（母の年齢・出生時の体重・性）
B2: =IF(COUNT(B4,表4!B4,表5!B4)=0,"",IF(AND(B4=SUM(表4!B4,表5!B4),表6!B4=表3!B4),"","総数エラー")) | C2: =IF(COUNT(C4,表4!C4,表5!C4)=0,"",IF(AND(C4=SUM(表4!C4,表5!C4),表6!C4=表3!C4),"","総数エラー")) | D2: =IF(COUNT(D4,表4!D4,表5!D4)=0,"",IF(AND(D4=SUM(表4!D4,表5!D4),表6!D4=表3!D4),"","総数エラー")) | E2: =IF(COUNT(E4,表4!E4,表5!E4)=0,"",IF(AND(E4=SUM(表4!E4,表5!E4),表6!E4=表3!E4),"","総数エラー")) | F2: =IF(COUNT(F4,表4!F4,表5!F4)=0,"",IF(AND(F4=SUM(表4!F4,表5!F4),表6!F4=表3!F4),"","総数エラー")) | G2: =IF(COUNT(G4,表4!G4,表5!G4)=0,"",IF(AND(G4=SUM(表4!G4,表5!G4),表6!G4=表3!G4),"","総数エラー")) | H2: =IF(COUNT(H4,表4!H4,表5!H4)=0,"",IF(AND(H4=SUM(表4!H4,表5!H4),表6!H4=表3!H4),"","総数エラー")) | I2: =IF(COUNT(I4,表4!I4,表5!I4)=0,"",IF(AND(I4=SUM(表4!I4,表5!I4),表6!I4=表3!I4),"","総数エラー")) | ... L2: =IF(COUNT(L4,表4!L4,表5!L4)=0,"",IF(AND(L4=SUM(表4!L4,表5!L4),表6!L4=表3!L4),"","総数エラー")) | M2: =IF(M4=表6!M4,"","総数err!!")
A3: 母の年齢 | B3: 総数 | C3: 1000g 未満 | D3: 1000～ 1499ｇ | E3: 1500～ 1999ｇ | F3: 2000～ 2499ｇ | G3: 2500g未満(再掲) | H3: 2500～ 2999ｇ | I3: 3000～ 3499ｇ | J3: 3500～ 3999ｇ | K3: 4000ｇ以上 | L3: 不詳 | M3: 出産時の平均体重（ｇ）
A4: 総数 | B4: 27 | C4: 12 | D4: 4 | E4: 5 | F4: 4 | G4: 25 | H4: 2 | I4: 0 | J4: 0 | K4: 0 | L4: 0 | M4: 1297.7407
A5: ～19歳 | B5: 1 | C5: 0 | D5: 0 | E5: 0 | F5: 0 | G5: 0 | H5: 1 | I5: 0 | J5: 0 | K5: 0 | L5: 0 | M5: 1537.5
A6: 20～24歳 | B6: 2 | C6: 1 | D6: 0 | E6: 1 | F6: 0 | G6: 2 | H6: 0 | I6: 0 | J6: 0 | K6: 0 | L6: 0 | M6: 1174
A7: 25～29歳 | B7: 6 | C7: 2 | D7: 2 | E7: 0 | F7: 2 | G7: 6 | H7: 0 | I7: 0 | J7: 0 | K7: 0 | L7: 0 | M7: 1324
A8: 30～34歳 | B8: 8 | C8: 4 | D8: 2 | E8: 2 | F8: 0 | G8: 8 | H8: 0 | I8: 0 | J8: 0 | K8: 0 | L8: 0 | M8: 1106.625
A9: 35～39歳 | B9: 8 | C9: 4 | D9: 0 | E9: 1 | F9: 2 | G9: 7 | H9: 1 | I9: 0 | J9: 0 | K9: 0 | L9: 0 | M9: 1379
A10: 40～44歳 | B10: 1 | C10: 0 | D10: 0 | E10: 1 | F10: 0 | G10: 1 | H10: 0 | I10: 0 | J10: 0 | K10: 0 | L10: 0 | M10: 1787
A11: 45歳以上 | B11: 0 | C11: 0 | D11: 0 | E11: 0 | F11: 0 | G11: 0 | H11: 0 | I11: 0 | J11: 0 | K11: 0 | L11: 0 | M11: 0
A12: 不 詳 | B12: 0 | C12: 0 | D12: 0 | E12: 0 | F12: 0 | G12: 0 | H12: 0 | I12: 0 | J12: 0 | K12: 0 | L12: 0 | M12: 0
A13: 性別不詳 (内数) | B13: 1 | C13: 1 | D13: 0 | E13: 0 | F13: 0 | G13: 1 | H13: 0 | I13: 0 | J13: 0 | K13: 0 | L13: 0 | M13: 145
A15: 男 | B15: 17 | C15: 7 | D15: 3 | E15: 3 | F15: 2 | G15: 15 | H15: 2 | I15: 0 | J15: 0 | K15: 0 | L15: 0 | M15: 1363.3529
A16: ～19歳 | B16: 1 | C16: 0 | D16: 0 | E16: 0 | F16: 0 | G16: 0 | H16: 1 | I16: 0 | J16: 0 | K16: 0 | L16: 0 | M16: 2930
... A26: ～19歳 | B26: 0 | C26: 0 | D26: 0 | E26: 0 | F26: 0 | G26: 0 | H26: 0 | I26: 0 | J26: 0 | K26: 0 | L26: 0 | M26: 0
A27: 20～24歳 | B27: 0 | C27: 0 | D27: 0 | E27: 0 | F27: 0 | G27: 0 | H27: 0 | I27: 0 | J27: 0 | K27: 0 | L27: 0 | M27: -
A28: 25～29歳 | B28: 2 | C28: 1 | D28: 1 | E28: 0 | F28: 0 | G28: 2 | H28: 0 | I28: 0 | J28: 0 | K28: 0 | L28: 0 | M28: 977
A29: 30～34歳 | B29: 3 | C29: 1 | D29: 0 | E29: 2 | F29: 0 | G29: 3 | H29: 0 | I29: 0 | J29: 0 | K29: 0 | L29: 0 | M29: 1437
A30: 35～39歳 | B30: 4 | C30: 2 | D30: 0 | E30: 0 | F30: 2 | G30: 4 | H30: 0 | I30: 0 | J30: 0 | K30: 0 | L30: 0 | M30: 1363
A31: 40～44歳 | B31: 0 | C31: 0 | D31: 0 | E31: 0 | F31: 0 | G31: 0 | H31: 0 | I31: 0 | J31: 0 | K31: 0 | L31: 0 | M31: -
A32: 45歳以上 | B32: 0 | C32: 0 | D32: 0 | E32: 0 | F32: 0 | G32: 0 | H32: 0 | I32: 0 | J32: 0 | K32: 0 | L32: 0 | M32: 0
A33: 不 詳 | B33: 0 | C33: 0 | D33: 0 | E33: 0 | F33: 0 | G33: 0 | H33: 0 | I33: 0 | J33: 0 | K33: 0 | L33: 0 | M33: -

Sheet 表4
A1: 表４ 周産期死亡数 －妊娠満２２週以後の死産－（母の年齢・出生時の体重・性）
B2: =IF(B4=表7!B4,"","22週不突合") | C2: =IF(C4=表7!C4,"","22週不突合") | D2: =IF(D4=表7!D4,"","22週不突合") | E2: =IF(E4=表7!E4,"","22週不突合") | F2: =IF(F4=表7!F4,"","22週不突合") | G2: =IF(G4=表7!G4,"","22週不突合") | H2: =IF(H4=表7!H4,"","22週不突合") | I2: =IF(I4=表7!I4,"","22週不突合") | ... M2: =IF(M4=表7!M4,"","22週不突合")
A3: 母の年齢 | B3: 総数 | C3: 1000g 未満 | D3: 1000～ 1499ｇ | E3: 1500～ 1999ｇ | F3: 2000～ 2499ｇ | G3: 2500g未満(再掲) | H3: 2500～ 2999ｇ | I3: 3000～ 3499ｇ | J3: 3500～ 3999ｇ | K3: 4000ｇ以上 | L3: 不詳 | M3: 出産時の平均体重（ｇ）
A4: 総数 | B4: 21 | C4: 11 | D4: 3 | E4: 3 | F4: 3 | G4: 20 | H4: 1 | I4: 0 | J4: 0 | K4: 0 | L4: 0 | M4: 1141.0952
A5: ～19歳 | B5: 0 | C5: 0 | D5: 0 | E5: 0 | F5: 0 | G5: 0 | H5: 0 | I5: 0 | J5: 0 | K5: 0 | L5: 0 | M5: -
A6: 20～24歳 | B6: 2 | C6: 1 | D6: 0 | E6: 1 | F6: 0 | G6: 2 | H6: 0 | I6: 0 | J6: 0 | K6: 0 | L6: 0 | M6: 1174
A7: 25～29歳 | B7: 5 | C7: 2 | D7: 1 | E7: 0 | F7: 2 | G7: 5 | H7: 0 | I7: 0 | J7: 0 | K7: 0 | L7: 0 | M7: 1295.2
A8: 30～34歳 | B8: 7 | C8: 4 | D8: 2 | E8: 1 | F8: 0 | G8: 7 | H8: 0 | I8: 0 | J8: 0 | K8: 0 | L8: 0 | M8: 1013.2857
A9: 35～39歳 | B9: 6 | C9: 3 | D9: 0 | E9: 1 | F9: 1 | G9: 5 | H9: 1 | I9: 0 | J9: 0 | K9: 0 | L9: 0 | M9: 1316.8333
A10: 40～44歳 | B10: 0 | C10: 0 | D10: 0 | E10: 0 | F10: 0 | G10: 0 | H10: 0 | I10: 0 | J10: 0 | K10: 0 | L10: 0 | M10: -
A11: 45歳以上 | B11: 0 | C11: 0 | D11: 0 | E11: 0 | F11: 0 | G11: 0 | H11: 0 | I11: 0 | J11: 0 | K11: 0 | L11: 0 | M11: 0
A12: 不 詳 | B12: 0 | C12: 0 | D12: 0 | E12: 0 | F12: 0 | G12: 0 | H12: 0 | I12: 0 | J12: 0 | K12: 0 | L12: 0 | M12: 0
A13: 性別不詳 (内数) | B13: 1 | C13: 1 | D13: 0 | E13: 0 | F13: 0 | G13: 1 | H13: 0 | I13: 0 | J13: 0 | K13: 0 | L13: 0 | M13: 145
A15: 男 | B15: 13 | C15: 6 | D15: 2 | E15: 2 | F15: 2 | G15: 12 | H15: 1 | I15: 0 | J15: 0 | K15: 0 | L15: 0 | M15: 1251.7692
A16: ～19歳 | B16: 0 | C16: 0 | D16: 0 | E16: - | F16: 0 | G16: 0 | H16: 0 | I16: 0 | J16: 0 | K16: 0 | L16: 0 | M16: 0
A17: 20～24歳 | B17: 2 | C17: 1 | D17: - | E17: 1 | F17: 0 | G17: 2 | H17: - | I17: - | J17: 0 | K17: 0 | L17: 0 | M17: 1174
A18: 25～29歳 | B18: 3 | C18: 1 | D18: - | E18: - | F18: 2 | G18: 3 | H18: - | I18: - | J18: 0 | K18: 0 | L18: 0 | M18: 1507.3333
A19: 30～34歳 | B19: 5 | C19: 3 | D19: 2 | E19: - | F19: 0 | G19: 5 | H19: - | I19: - | J19: 0 | K19: 0 | L19: 0 | M19: 908.4
A20: 35～39歳 | B20: 3 | C20: 1 | D20: - | E20: 1 | F20: 0 | G20: 2 | H20: 1 | I20: - | J20: 0 | K20: 0 | L20: 0 | M20: 1620.3333
A21: 40～44歳 | B21: 0 | C21: - | D21: - | E21: - | F21: 0 | G21: 0 | H21: 0 | I21: 0 | J21: 0 | K21: 0 | L21: 0 | M21: -
A22: 45歳以上 | B22: 0 | C22: 0 | D22: 0 | E22: 0 | F22: 0 | G22: 0 | H22: 0 | I22: 0 | J22: 0 | K22: 0 | L22: 0 | M22: 0
A23: 不 詳 | B23: 0 | C23: 0 | D23: 0 | E23: 0 | F23: 0 | G23: 0 | H23: 0 | I23: 0 | J23: 0 | K23: 0 | L23: 0 | M23: 0
A25: 女 | B25: 7 | C25: 4 | D25: 1 | E25: 1 | F25: 1 | G25: 7 | H25: 0 | I25: 0 | J25: 0 | K25: 0 | L25: 0 | M25: 1077.8571
A26: ～19歳 | B26: 0 | C26: 0 | D26: 0 | E26: 0 | F26: 0 | G26: 0 | H26: 0 | I26: 0 | J26: 0 | K26: 0 | L26: 0 | M26: 0
A27: 20～24歳 | B27: 0 | C27: - | D27: - | E27: - | F27: - | G27: 0 | H27: 0 | I27: 0 | J27: 0 | K27: 0 | L27: 0 | M27: -
A28: 25～29歳 | B28: 2 | C28: 1 | D28: 1 | E28: - | F28: - | G28: 2 | H28: 0 | I28: 0 | J28: 0 | K28: 0 | L28: 0 | M28: 977
A29: 30～34歳 | B29: 2 | C29: 1 | D29: - | E29: 1 | F29: - | G29: 2 | H29: 0 | I29: 0 | J29: 0 | K29: 0 | L29: 0 | M29: 1275.5
A30: 35～39歳 | B30: 3 | C30: 2 | D30: - | E30: - | F30: 1 | G30: 3 | H30: 0 | I30: 0 | J30: 0 | K30: 0 | L30: 0 | M30: 1013.3333
A31: 40～44歳 | B31: 0 | C31: - | D31: - | E31: - | F31: - | G31: 0 | H31: 0 | I31: 0 | J31: 0 | K31: 0 | L31: 0 | M31: -
A32: 45歳以上 | B32: 0 | C32: - | D32: - | E32: - | F32: - | G32: 0 | H32: 0 | I32: 0 | J32: 0 | K32: 0 | L32: 0 | M32: 0
A33: 不 詳 | B33: 0 | C33: - | D33: 0 | E33: 0 | F33: 0 | G33: 0 | H33: 0 | I33: 0 | J33: 0 | K33: 0 | L33: 0 | M33: 0

Sheet 表5
A1: 表５ 周産期死亡数 ―早期新生児死亡―（母の年齢・出生時の体重・性）
B2: =IF(B4=表8!B4,"","新生児不突合") | C2: =IF(C4=表8!C4,"","新生児不突合") | D2: =IF(D4=表8!D4,"","新生児不突合") | E2: =IF(E4=表8!E4,"","新生児不突合") | F2: =IF(F4=表8!F4,"","新生児不突合") | G2: =IF(G4=表8!G4,"","新生児不突合") | H2: =IF(H4=表8!H4,"","新生児不突合") | I2: =IF(I4=表8!I4,"","新生児不突合") | ... M2: =IF(M4=表8!M4,"","新生児不突合")
A3: 母の年齢 | B3: 総数 | C3: 1000g 未満 | D3: 1000～ 1499ｇ | E3: 1500～ 1999ｇ | F3: 2000～ 2499ｇ | G3: 2500g未満(再掲) | H3: 2500～ 2999ｇ | I3: 3000～ 3499ｇ | J3: 3500～ 3999ｇ | K3: 4000ｇ以上 | L3: 不詳 | M3: 出産時の平均体重（ｇ）
A4: 総数 | B4: 6 | C4: 1 | D4: 1 | E4: 2 | F4: 1 | G4: 5 | H4: 1 | I4: 0 | J4: 0 | K4: 0 | L4: 0 | M4: 1846
A5: ～19歳 | B5: 1 | C5: 0 | D5: 0 | E5: 0 | F5: 0 | G5: 0 | H5: 1 | I5: 0 | J5: 0 | K5: 0 | L5: 0 | M5: 2930
A6: 20～24歳 | B6: 0 | C6: 0 | D6: 0 | E6: 0 | F6: 0 | G6: 0 | H6: 0 | I6: 0 | J6: 0 | K6: 0 | L6: 0 | M6: 0
A7: 25～29歳 | B7: 1 | C7: 0 | D7: 1 | E7: 0 | F7: 0 | G7: 1 | H7: 0 | I7: 0 | J7: 0 | K7: 0 | L7: 0 | M7: 1468
A8: 30～34歳 | B8: 1 | C8: 0 | D8: 0 | E8: 1 | F8: 0 | G8: 1 | H8: 0 | I8: 0 | J8: 0 | K8: 0 | L8: 0 | M8: 1760
A9: 35～39歳 | B9: 2 | C9: 1 | D9: 0 | E9: 0 | F9: 1 | G9: 2 | H9: 0 | I9: 0 | J9: 0 | K9: 0 | L9: 0 | M9: 1565.5
A10: 40～44歳 | B10: 1 | C10: 0 | D10: 0 | E10: 1 | F10: 0 | G10: 1 | H10: 0 | I10: 0 | J10: 0 | K10: 0 | L10: 0 | M10: 1787
A11: 45歳以上 | B11: 0 | C11: 0 | D11: 0 | E11: 0 | F11: 0 | G11: 0 | H11: 0 | I11: 0 | J11: 0 | K11: 0 | L11: 0 | M11: 0
A12: 不 詳 | B12: 0 | C12: 0 | D12: 0 | E12: 0 | F12: 0 | G12: 0 | H12: 0 | I12: 0 | J12: 0 | K12: 0 | L12: 0 | M12: 0
A14: 男 | B14: 4 | C14: 1 | D14: 1 | E14: 1 | F14: 0 | G14: 3 | H14: 1 | I14: 0 | J14: 0 | K14: 0 | L14: 0 | M14: 1726
A15: ～19歳 | B15: 1 | C15: - | D15: 0 | E15: 0 | F15: 0 | G15: 0 | H15: 1 | I15: 0 | J15: 0 | K15: 0 | L15: 0 | M15: 2930
A16: 20～24歳 | B16: 0 | C16: - | D16: 0 | E16: 0 | F16: 0 | G16: 0 | H16: 0 | I16: 0 | J16: 0 | K16: 0 | L16: 0 | M16: 0
A17: 25～29歳 | B17: 1 | C17: - | D17: 1 | E17: 0 | F17: 0 | G17: 1 | H17: 0 | I17: 0 | J17: 0 | K17: 0 | L17: 0 | M17: 1468
A18: 30～34歳 | B18: 0 | C18: - | D18: - | E18: - | F18: - | G18: 0 | H18: 0 | I18: 0 | J18: 0 | K18: 0 | L18: 0 | M18: 0
A19: 35～39歳 | B19: 1 | C19: 1 | D19: - | E19: - | F19: - | G19: 1 | H19: 0 | I19: 0 | J19: 0 | K19: 0 | L19: 0 | M19: 719
A20: 40～44歳 | B20: 1 | C20: - | D20: - | E20: 1 | F20: - | G20: 1 | H20: 0 | I20: 0 | J20: 0 | K20: 0 | L20: 0 | M20: 1787
A21: 45歳以上 | B21: 0 | C21: 0 | D21: 0 | E21: 0 | F21: 0 | G21: 0 | H21: 0 | I21: 0 | J21: 0 | K21: 0 | L21: 0 | M21: 0
A22: 不 詳 | B22: 0 | C22: 0 | D22: 0 | E22: 0 | F22: 0 | G22: 0 | H22: 0 | I22: 0 | J22: 0 | K22: 0 | M22: 0
A24: 女 | B24: 2 | C24: 0 | D24: 0 | E24: 1 | F24: 1 | G24: 2 | H24: 0 | I24: 0 | J24: 0 | K24: 0 | L24: 0 | M24: 2086
A25: ～19歳 | B25: 0 | C25: 0 | D25: 0 | E25: 0 | F25: 0 | G25: 0 | H25: 0 | I25: 0 | J25: 0 | K25: 0 | L25: 0 | M25: -
A26: 20～24歳 | B26: 0 | C26: 0 | D26: 0 | E26: 0 | F26: 0 | G26: 0 | H26: 0 | I26: 0 | J26: 0 | K26: 0 | L26: 0 | M26: -
A27: 25～29歳 | B27: 0 | C27: - | D27: - | E27: - | F27: - | G27: 0 | H27: 0 | I27: 0 | J27: 0 | K27: 0 | L27: 0 | M27: -
A28: 30～34歳 | B28: 1 | C28: - | D28: - | E28: 1 | F28: - | G28: 1 | H28: 0 | I28: 0 | J28: 0 | K28: 0 | L28: 0 | M28: 1760
A29: 35～39歳 | B29: 1 | C29: 0 | D29: 0 | E29: 0 | F29: 1 | G29: 1 | H29: 0 | I29: 0 | J29: 0 | K29: 0 | L29: 0 | M29: 2412
A30: 40～44歳 | B30: 0 | C30: 0 | D30: 0 | E30: 0 | F30: 0 | G30: 0 | H30: 0 | I30: 0 | J30: 0 | K30: 0 | L30: 0 | M30: 0
A31: 45歳以上 | B31: 0 | C31: 0 | D31: 0 | E31: 0 | F31: 0 | G31: 0 | H31: 0 | I31: 0 | J31: 0 | K31: 0 | L31: 0 | M31: 0
A32: 不 詳 | B32: 0 | C32: 0 | D32: 0 | E32: 0 | F32: 0 | G32: 0 | H32: 0 | I32: 0 | J32: 0 | K32: 0 | L32: 0 | M32: 0

Sheet 表6
A1: 表６ 周産期死亡数―総数―（妊娠週数・出生時の体重・性）
B2: =IF(COUNT(表3!B4,B4,表7!B4,表8!B4)=0,"",IF(AND(SUM(表7!B4,表8!B4)=表6!B4,表6!B4=表3!B4),"","総数エラー")) | C2: =IF(COUNT(表3!C4,C4,表7!C4,表8!C4)=0,"",IF(AND(SUM(表7!C4,表8!C4)=表6!C4,表6!C4=表3!C4),"","総数エラー")) | D2: =IF(COUNT(表3!D4,D4,表7!D4,表8!D4)=0,"",IF(AND(SUM(表7!D4,表8!D4)=表6!D4,表6!D4=表3!D4),"","総数エラー")) | E2: =IF(COUNT(表3!E4,E4,表7!E4,表8!E4)=0,"",IF(AND(SUM(表7!E4,表8!E4)=表6!E4,表6!E4=表3!E4),"","総数エラー")) | F2: =IF(COUNT(表3!F4,F4,表7!F4,表8!F4)=0,"",IF(AND(SUM(表7!F4,表8!F4)=表6!F4,表6!F4=表3!F4),"","総数エラー")) | G2: =IF(COUNT(表3!G4,G4,表7!G4,表8!G4)=0,"",IF(AND(SUM(表7!G4,表8!G4)=表6!G4,表6!G4=表3!G4),"","総数エラー")) | H2: =IF(COUNT(表3!H4,H4,表7!H4,表8!H4)=0,"",IF(AND(SUM(表7!H4,表8!H4)=表6!H4,表6!H4=表3!H4),"","総数エラー")) | I2: =IF(COUNT(表3!I4,I4,表7!I4,表8!I4)=0,"",IF(AND(SUM(表7!I4,表8!I4)=表6!I4,表6!I4=表3!I4),"","総数エラー")) | ... L2: =IF(COUNT(表3!L4,L4,表7!L4,表8!L4)=0,"",IF(AND(SUM(表7!L4,表8!L4)=表6!L4,表6!L4=表3!L4),"","総数エラー")) | M2: =表3!M2
A3: 妊娠週数 | B3: 総数 | C3: 1000g 未満 | D3: 1000～ 1499ｇ | E3: 1500～ 1999ｇ | F3: 2000～ 2499ｇ | G3: 2500g未満(再掲) | H3: 2500～ 2999ｇ | I3: 3000～ 3499ｇ | J3: 3500～ 3999ｇ | K3: 4000ｇ以上 | L3: 不詳 | M3: 出産時の平均体重（ｇ）
A4: 総数 | B4: 27 | C4: 12 | D4: 4 | E4: 5 | F4: 4 | G4: 25 | H4: 2 | I4: 0 | J4: 0 | K4: 0 | L4: 0 | M4: 1297.7407
A5: 22～27週 | B5: 8 | C5: 8 | D5: 0 | E5: 0 | F5: 0 | G5: 8 | H5: 0 | I5: 0 | J5: 0 | K5: 0 | L5: 0 | M5: 535.5
A6: 28～31週 | B6: 5 | C6: 2 | D6: 1 | E6: 2 | F6: 0 | G6: 5 | H6: 0 | I6: 0 | J6: 0 | K6: 0 | L6: 0 | M6: 1132.6
A7: 32～35週 | B7: 5 | C7: 0 | D7: 3 | E7: 2 | F7: 0 | G7: 5 | H7: 0 | I7: 0 | J7: 0 | K7: 0 | L7: 0 | M7: 1525.4
A8: 36～39週 | B8: 9 | C8: 2 | D8: 0 | E8: 1 | F8: 4 | G8: 7 | H8: 2 | I8: 0 | J8: 0 | K8: 0 | L8: 0 | M8: 1940.5556
A9: 40～43週 | B9: 0 | C9: 0 | D9: 0 | E9: 0 | F9: 0 | G9: 0 | H9: 0 | I9: 0 | J9: 0 | K9: 0 | L9: 0 | M9: -
A10: 不 詳 | B10: 0 | C10: 0 | D10: 0 | E10: 0 | F10: 0 | G10: 0 | H10: 0 | I10: 0 | J10: 0 | K10: 0 | L10: 0 | M10: -
A11: 性別不詳 (内数) | B11: 1 | C11: 1 | D11: 0 | E11: 0 | F11: 0 | G11: 1 | H11: 0 | I11: 0 | J11: 0 | K11: 0 | L11: 0 | M11: 145
A13: 男 | B13: 17 | C13: 7 | D13: 3 | E13: 3 | F13: 2 | G13: 15 | H13: 2 | I13: 0 | J13: 0 | K13: 0 | L13: 0 | M13: 1363.3529
A14: 22～27週 | B14: 5 | C14: 5 | D14: 0 | E14: 0 | F14: 0 | G14: 5 | H14: 0 | I14: 0 | J14: 0 | K14: 0 | L14: 0 | M14: 561.4
A15: 28～31週 | B15: 3 | C15: 1 | D15: 1 | E15: 1 | F15: 0 | G15: 3 | H15: 0 | I15: 0 | J15: 0 | K15: 0 | L15: 0 | M15: 1201.6667
A16: 32～35週 | B16: 4 | C16: 0 | D16: 2 | E16: 2 | F16: 0 | G16: 4 | H16: 0 | I16: 0 | J16: 0 | K16: 0 | L16: 0 | M16: 1630.75
A17: 36～39週 | B17: 5 | C17: 1 | D17: 0 | E17: 0 | F17: 2 | G17: 3 | H17: 2 | I17: 0 | J17: 0 | K17: 0 | L17: 0 | M17: 2048.4
A18: 40～43週 | B18: 0 | C18: 0 | D18: 0 | E18: 0 | F18: 0 | G18: 0 | H18: 0 | I18: 0 | J18: 0 | K18: 0 | L18: 0 | M18: -
A19: 不 詳 | B19: 0 | C19: 0 | D19: 0 | E19: 0 | F19: 0 | G19: 0 | H19: 0 | I19: 0 | J19: 0 | K19: 0 | L19: 0 | M19: -
A21: 女 | B21: 9 | C21: 4 | D21: 1 | E21: 2 | F21: 2 | G21: 9 | H21: 0 | I21: 0 | J21: 0 | K21: 0 | L21: 0 | M21: 1301.8889
A22: 22～27週 | B22: 2 | C22: 2 | D22: 0 | E22: 0 | F22: 0 | G22: 2 | H22: 0 | I22: 0 | J22: 0 | K22: 0 | L22: 0 | M22: 666
A23: 28～31週 | B23: 2 | C23: 1 | D23: 0 | E23: 1 | F23: 0 | G23: 2 | H23: 0 | I23: 0 | J23: 0 | K23: 0 | L23: 0 | M23: 1029
A24: 32～35週 | B24: 1 | C24: 0 | D24: 1 | E24: 0 | F24: 0 | G24: 1 | H24: 0 | I24: 0 | J24: 0 | K24: 0 | L24: 0 | M24: 1104
A25: 36～39週 | B25: 4 | C25: 1 | D25: 0 | E25: 1 | F25: 2 | G25: 4 | H25: 0 | I25: 0 | J25: 0 | K25: 0 | L25: 0 | M25: 1805.75
A26: 40～43週 | B26: 0 | C26: 0 | D26: 0 | E26: 0 | F26: 0 | G26: 0 | H26: 0 | I26: 0 | J26: 0 | K26: 0 | L26: 0 | M26: -
A27: 不 詳 | B27: 0 | C27: 0 | D27: 0 | E27: 0 | F27: 0 | G27: 0 | H27: 0 | I27: 0 | J27: 0 | K27: 0 | L27: 0 | M27: -

Sheet 表7
A1: 表７ 周産期死亡数―妊娠満２２週以後の死産―（妊娠週数・出生時の体重・性）
B2: =表4!B2 | C2: =表4!C2 | D2: =表4!D2 | E2: =表4!E2 | F2: =表4!F2 | G2: =表4!G2 | H2: =表4!H2 | I2: =表4!I2 | ... M2: =表4!M2
A3: 妊娠週数 | B3: 総数 | C3: 1000g 未満 | D3: 1000～ 1499ｇ | E3: 1500～ 1999ｇ | F3: 2000～ 2499ｇ | G3: 2500g未満(再掲) | H3: 2500～ 2999ｇ | I3: 3000～ 3499ｇ | J3: 3500～ 3999ｇ | K3: 4000ｇ以上 | L3: 不詳 | M3: 出産時の平均体重（ｇ）
A4: 総数 | B4: 21 | C4: 11 | D4: 3 | E4: 3 | F4: 3 | G4: 20 | H4: 1 | I4: 0 | J4: 0 | K4: 0 | L4: 0 | M4: 1141.0952
A5: 22～27週 | B5: 8 | C5: 8 | D5: 0 | E5: 0 | F5: 0 | G5: 8 | H5: 0 | I5: 0 | J5: 0 | K5: 0 | L5: 0 | M5: 535.5
A6: 28～31週 | B6: 3 | C6: 1 | D6: 1 | E6: 1 | F6: 0 | G6: 3 | H6: 0 | I6: 0 | J6: 0 | K6: 0 | L6: 0 | M6: 1061.3333
A7: 32～35週 | B7: 3 | C7: 0 | D7: 2 | E7: 1 | F7: 0 | G7: 3 | H7: 0 | I7: 0 | J7: 0 | K7: 0 | L7: 0 | M7: 1457.3333
A8: 36～39週 | B8: 7 | C8: 2 | D8: 0 | E8: 1 | F8: 3 | G8: 6 | H8: 1 | I8: 0 | J8: 0 | K8: 0 | L8: 0 | M8: 1731.8571
A9: 40～43週 | B9: 0 | C9: 0 | D9: 0 | E9: 0 | F9: 0 | G9: 0 | H9: 0 | I9: 0 | J9: 0 | K9: 0 | L9: 0 | M9: -
A10: 不 詳 | B10: 0 | C10: 0 | D10: 0 | E10: 0 | F10: 0 | G10: 0 | H10: 0 | I10: 0 | J10: 0 | K10: 0 | L10: 0 | M10: 0
A11: 性別不詳 (内数) | B11: 1 | C11: 1 | D11: 0 | E11: 0 | F11: 0 | G11: 1 | H11: 0 | I11: 0 | J11: 0 | K11: 0 | L11: 0 | M11: 145
A13: 男 | B13: 13 | C13: 6 | D13: 2 | E13: 2 | F13: 2 | G13: 12 | H13: 1 | I13: 0 | J13: 0 | K13: 0 | L13: 0 | M13: 1251.7692
A14: 22～27週 | B14: 5 | C14: 5 | D14: - | E14: - | F14: - | G14: 5 | H14: - | I14: - | J14: - | K14: - | L14: - | M14: 561.4
A15: 28～31週 | B15: 2 | C15: - | D15: 1 | E15: 1 | F15: - | G15: 2 | H15: - | I15: - | J15: - | K15: - | L15: - | M15: 1443
A16: 32～35週 | B16: 2 | C16: - | D16: 1 | E16: 1 | F16: - | G16: 2 | H16: - | I16: - | J16: - | K16: - | L16: - | M16: 1634
A17: 36～39週 | B17: 4 | C17: 1 | D17: - | E17: - | F17: 2 | G17: 3 | H17: 1 | I17: - | J17: - | K17: - | L17: - | M17: 1828
A18: 40～43週 | B18: 0 | C18: - | D18: - | E18: - | F18: - | G18: 0 | H18: - | I18: - | J18: - | K18: - | L18: - | M18: -
A19: 不 詳 | B19: 0 | C19: - | D19: - | E19: - | F19: - | G19: 0 | H19: - | I19: - | J19: - | K19: - | L19: - | M19: -
A21: 女 | B21: 7 | C21: 4 | D21: 1 | E21: 1 | F21: 1 | G21: 7 | H21: 0 | I21: 0 | J21: 0 | K21: 0 | L21: 0 | M21: 1077.8571
A22: 22～27週 | B22: 2 | C22: 2 | D22: - | E22: - | F22: - | G22: 2 | H22: - | I22: - | J22: - | K22: - | L22: - | M22: 666
A23: 28～31週 | B23: 1 | C23: 1 | D23: - | E23: - | F23: - | G23: 1 | H23: - | I23: - | J23: - | K23: - | L23: - | M23: 298
A24: 32～35週 | B24: 1 | C24: - | D24: 1 | E24: - | F24: - | G24: 1 | H24: - | I24: - | J24: - | K24: - | L24: - | M24: 1104
A25: 36～39週 | B25: 3 | C25: 1 | D25: - | E25: 1 | F25: 1 | G25: 3 | H25: - | I25: - | J25: - | K25: - | L25: - | M25: 1603.6667
A26: 40～43週 | B26: 0 | C26: - | D26: - | E26: - | F26: - | G26: 0 | H26: - | I26: - | J26: - | K26: - | L26: - | M26: -
A27: 不 詳 | B27: 0 | C27: - | D27: - | E27: - | F27: - | G27: 0 | H27: - | I27: - | J27: - | K27: - | L27: - | M27: 0

Sheet 表8
A1: 表８ 周産期死亡数―早期新生児死亡―（妊娠週数・出生時の体重・性）
B2: =表5!B2 | C2: =表5!C2 | D2: =表5!D2 | E2: =表5!E2 | F2: =表5!F2 | G2: =表5!G2 | H2: =表5!H2 | I2: =表5!I2 | ... M2: =表5!M2
A3: 妊娠週数 | B3: 総数 | C3: 1000g 未満 | D3: 1000～ 1499ｇ | E3: 1500～ 1999ｇ | F3: 2000～ 2499ｇ | G3: 2500g未満(再掲) | H3: 2500～ 2999ｇ | I3: 3000～ 3499ｇ | J3: 3500～ 3999ｇ | K3: 4000ｇ以上 | L3: 不詳 | M3: 出産時の平均体重（ｇ）
A4: 総数 | B4: 6 | C4: 1 | D4: 1 | E4: 2 | F4: 1 | G4: 5 | H4: 1 | I4: 0 | J4: 0 | K4: 0 | L4: 0 | M4: 1846
A5: 22～27週 | B5: 0 | C5: 0 | D5: 0 | E5: 0 | F5: 0 | G5: 0 | H5: 0 | I5: 0 | J5: 0 | K5: 0 | L5: 0 | M5: -
A6: 28～31週 | B6: 2 | C6: 1 | D6: 0 | E6: 1 | F6: 0 | G6: 2 | H6: 0 | I6: 0 | J6: 0 | K6: 0 | L6: 0 | M6: 1239.5
A7: 32～35週 | B7: 2 | C7: 0 | D7: 1 | E7: 1 | F7: 0 | G7: 2 | H7: 0 | I7: 0 | J7: 0 | K7: 0 | L7: 0 | M7: 1627.5
A8: 36～39週 | B8: 2 | C8: 0 | D8: 0 | E8: 0 | F8: 1 | G8: 1 | H8: 1 | I8: 0 | J8: 0 | K8: 0 | L8: 0 | M8: 2671
A9: 40～43週 | B9: 0 | C9: 0 | D9: 0 | E9: 0 | F9: 0 | G9: 0 | H9: 0 | I9: 0 | J9: 0 | K9: 0 | L9: 0 | M9: -
A10: 不 詳 | B10: 0 | C10: 0 | D10: 0 | E10: 0 | F10: 0 | G10: 0 | H10: 0 | I10: 0 | J10: 0 | K10: 0 | L10: 0 | M10: -
A12: 男 | B12: 4 | C12: 1 | D12: 1 | E12: 1 | F12: 0 | G12: 3 | H12: 1 | I12: 0 | J12: 0 | K12: 0 | L12: 0 | M12: 1726
A13: 22～27週 | B13: 0 | C13: - | D13: - | E13: - | F13: - | G13: 0 | H13: - | I13: - | J13: - | K13: - | L13: - | M13: -
A14: 28～31週 | B14: 1 | C14: 1 | D14: - | E14: - | F14: - | G14: 1 | H14: - | I14: - | J14: - | K14: - | L14: - | M14: 719
A15: 32～35週 | B15: 2 | C15: - | D15: 1 | E15: 1 | F15: - | G15: 2 | H15: - | I15: - | J15: - | K15: - | L15: - | M15: 1627.5
A16: 36～39週 | B16: 1 | C16: - | D16: - | E16: - | F16: - | G16: 0 | H16: 1 | I16: - | J16: - | K16: - | L16: - | M16: 2930
A17: 40～43週 | B17: 0 | C17: - | D17: - | E17: - | F17: - | G17: 0 | H17: - | I17: - | J17: - | K17: - | L17: - | M17: -
A18: 不 詳 | B18: 0 | C18: - | D18: - | E18: - | F18: - | G18: 0 | H18: - | I18: - | J18: - | K18: - | L18: - | M18: -
A20: 女 | B20: 2 | C20: 0 | D20: 0 | E20: 1 | F20: 1 | G20: 2 | H20: 0 | I20: 0 | J20: 0 | K20: 0 | L20: 0 | M20: 2086
A21: 22～27週 | B21: 0 | C21: - | D21: - | E21: - | F21: - | G21: 0 | H21: - | I21: - | J21: - | K21: - | L21: - | M21: -
A22: 28～31週 | B22: 1 | C22: - | D22: - | E22: 1 | F22: - | G22: 1 | H22: - | I22: - | J22: - | K22: - | L22: - | M22: 1760
A23: 32～35週 | B23: 0 | C23: - | D23: - | E23: - | F23: - | G23: 0 | H23: - | I23: - | J23: - | K23: - | L23: - | M23: -
A24: 36～39週 | B24: 1 | C24: - | D24: - | E24: - | F24: 1 | G24: 1 | H24: - | I24: - | J24: - | K24: - | L24: - | M24: 2412
A25: 40～43週 | B25: 0 | C25: - | D25: - | E25: - | F25: - | G25: - | H25: - | I25: - | J25: - | K25: - | L25: - | M25: -
A26: 不 詳 | B26: 0 | C26: - | D26: - | E26: - | F26: - | G26: 0 | H26: - | I26: - | J26: - | K26: - | L26: - | M26: -

Sheet 表9
A1: 表９ 周産期死亡数―病態―
C2: （妊娠週数・妊娠満22週以後の死産－早期新生児死亡）
D3: =IF(D6=表6!B4,"","err!") | E3: =IF(E6=表6!B5,"","err!") | F3: =IF(F6=表6!B6,"","err!") | G3: =IF(G6=表6!B7,"","err!") | H3: =IF(H6=表6!B8,"","err!") | I3: =IF(I6=表6!B9,"","err!") | J3: =IF(COUNT(表6!B10,表9!J6:K6)=0,"",IF(SUM(J6:K6)=表6!B10,"","err!")) | K3: =J3 | L3: =IF(L6=表7!B4,"","err!") | M3: =IF(M6=表7!B5,"","err!") | N3: =IF(N6=表7!B6,"","err!") | O3: =IF(O6=表7!B7,"","err!") | P3: =IF(P6=表7!B8,"","err!") | Q3: =IF(Q6=表7!B9,"","err!") | R3: =IF(COUNT(R6,S6,表7!B10)=0,"",IF(SUM(R6:S6)=表7!B10,"","err!")) | S3: =R3 | T3: =IF(T6=表8!B4,"","err!") | U3: =IF(U6=表8!B5,"","err!") | V3: =IF(V6=表8!B6,"","err!") | W3: =IF(W6=表8!B7,"","err!") | X3: =IF(X6=表8!B8,"","err!") | Y3: =IF(Y6=表8!B9,"","err!") | Z3: =IF(COUNT(Z6:AA6,表8!B10)=0,"",IF(SUM(Z6:AA6)=表8!B10,"","err!")) | AA3: =Z3
D4: 総数 | L4: 妊娠満22週以後の死産 | T4: 早期新生児死亡
D5: 総数 | E5: 満28週未満 | F5: 28～31週 | G5: 32～35週 | H5: 36～39週 | I5: 40～43週 | J5: 44週以上 | K5: 不詳 | L5: 総数 | M5: 満28週未満 | N5: 28～31週 | O5: 32～35週 | P5: 36～39週 | Q5: 40～43週 | R5: 44週以上 | S5: 不詳 | T5: 総数 | U5: 満28週未満 | V5: 28～31週 | W5: 32～35週 | X5: 36～39週 | Y5: 40～43週 | Z5: 44週以上 | AA5: 不詳
A6: 総数 | D6: 27 | E6: 8 | F6: 5 | G6: 5 | H6: 9 | I6: 0 | J6: 0 | K6: 0 | L6: 21 | M6: 8 | N6: 3 | O6: 3 | P6: 7 | Q6: 0 | R6: 0 | S6: 0 | T6: 6 | U6: 0 | V6: 2 | W6: 2 | X6: 2 | Y6: 0 | Z6: 0 | AA6: 0
B7: Ｐ00 | C7: 現在の妊娠とは無関係の場合もある母体の病態による障害 | D7: 5 | E7: 0 | F7: 2 | G7: 1 | H7: 2 | I7: 0 | J7: 0 | K7: 0 | L7: 4 | M7: 0 | N7: 1 | O7: 1 | P7: 2 | Q7: 0 | R7: 0 | S7: 0 | T7: 1 | U7: 0 | V7: 1 | W7: 0 | X7: 0 | Y7: 0 | Z7: 0 | AA7: 0
B8: Ｐ01 | C8: 母体の妊娠合併症による障害 | D8: 0 | E8: 0 | F8: 0 | G8: 0 | H8: 0 | I8: 0 | J8: 0 | K8: 0 | L8: 0 | M8: 0 | N8: 0 | O8: 0 | P8: 0 | Q8: 0 | R8: 0 | S8: 0 | T8: 0 | U8: 0 | V8: 0 | W8: 0 | X8: 0 | Y8: 0 | Z8: 0 | AA8: 0
B9: Ｐ02 | C9: 胎盤・臍帯及び卵膜の合併症による障害 | D9: 7 | E9: 3 | F9: 1 | G9: 0 | H9: 3 | I9: 0 | J9: 0 | K9: 0 | L9: 5 | M9: 3 | N9: 0 | O9: 0 | P9: 2 | Q9: 0 | R9: 0 | S9: 0 | T9: 2 | U9: 0 | V9: 1 | W9: 0 | X9: 1 | Y9: 0 | Z9: 0 | AA9: 0
B10: Ｐ03 | C10: その他の分娩合併症による障害 | D10: 1 | E10: 0 | F10: 0 | G10: 0 | H10: 1 | I10: 0 | J10: 0 | K10: 0 | L10: 0 | M10: 0 | N10: 0 | O10: 0 | P10: 0 | Q10: 0 | R10: 0 | S10: 0 | T10: 1 | U10: 0 | V10: 0 | W10: 0 | X10: 1 | Y10: 0 | Z10: 0 | AA10: 0
B11: Ｐ04 | C11: 胎盤又は母乳を介して有害な影響を受けた障害 | D11: 0 | E11: 0 | F11: 0 | G11: 0 | H11: 0 | I11: 0 | J11: 0 | K11: 0 | L11: 0 | M11: 0 | N11: 0 | O11: 0 | P11: 0 | Q11: 0 | R11: 0 | S11: 0 | T11: 0 | U11: 0 | V11: 0 | W11: 0 | X11: 0 | Y11: 0 | Z11: 0 | AA11: 0
B12: Ｐ99 | C12: 母体に原因なし | D12: 14 | E12: 5 | F12: 2 | G12: 4 | H12: 3 | I12: 0 | J12: 0 | K12: 0 | L12: 12 | M12: 5 | N12: 2 | O12: 2 | P12: 3 | Q12: 0 | R12: 0 | S12: 0 | T12: 2 | U12: 0 | V12: 0 | W12: 2 | X12: 0 | Y12: 0 | Z12: 0 | AA12: 0
A13: ⅩⅥ周産期に発生した主要病態(P05～P96) | D13: 23 | E13: 7 | F13: 3 | G13: 4 | H13: 9 | I13: 0 | J13: 0 | K13: 0 | L13: 19 | M13: 7 | N13: 2 | O13: 3 | P13: 7 | Q13: 0 | R13: 0 | S13: 0 | T13: 4 | U13: 0 | V13: 1 | W13: 1 | X13: 2 | Y13: 0 | Z13: 0 | AA13: 0
B14: Ｐ00 | C14: 現在の妊娠とは無関係の場合もある母体の病態による障害 | D14: 3 | E14: 0 | F14: 0 | G14: 1 | H14: 2 | I14: 0 | J14: 0 | K14: 0 | L14: 3 | M14: - | N14: - | O14: 1 | P14: 2 | Q14: - | R14: - | S14: - | T14: 0 | U14: - | V14: - | W14: - | X14: - | Y14: - | Z14: - | AA14: -
B15: Ｐ01 | C15: 母体の妊娠合併症による障害 | D15: 0 | E15: 0 | F15: 0 | G15: 0 | H15: 0 | I15: 0 | J15: 0 | K15: 0 | L15: 0 | M15: - | N15: - | O15: - | P15: - | Q15: - | R15: - | S15: - | T15: 0 | U15: - | V15: - | W15: - | X15: - | Y15: - | Z15: - | AA15: -
B16: Ｐ02 | C16: 胎盤・臍帯及び卵膜の合併症による障害 | D16: 7 | E16: 3 | F16: 1 | G16: 0 | H16: 3 | I16: 0 | J16: 0 | K16: 0 | L16: 5 | M16: 3 | N16: - | O16: - | P16: 2 | Q16: - | R16: - | S16: - | T16: 2 | U16: - | V16: 1 | W16: - | X16: 1 | Y16: - | Z16: - | AA16: -
B17: Ｐ03 | C17: その他の分娩合併症による障害 | D17: 1 | E17: 0 | F17: 0 | G17: 0 | H17: 1 | I17: 0 | J17: 0 | K17: 0 | L17: 0 | M17: - | N17: - | O17: - | P17: - | Q17: - | R17: - | S17: - | T17: 1 | U17: - | V17: - | W17: - | X17: 1 | Y17: - | Z17: - | AA17: -
B18: Ｐ04 | C18: 胎盤又は母乳を介して有害な影響を受けた障害 | D18: 0 | E18: 0 | F18: 0 | G18: 0 | H18: 0 | I18: 0 | J18: 0 | K18: 0 | L18: 0 | M18: - | N18: - | O18: - | P18: - | Q18: - | R18: - | S18: - | T18: 0 | U18: - | V18: - | W18: - | X18: - | Y18: - | Z18: - | AA18: -
B19: Ｐ99 | C19: 母体に原因なし | D19: 12 | E19: 4 | F19: 2 | G19: 3 | H19: 3 | I19: 0 | J19: 0 | K19: 0 | L19: 11 | M19: 4 | N19: 2 | O19: 2 | P19: 3 | Q19: - | R19: - | S19: - | T19: 1 | U19: - | V19: - | W19: 1 | X19: - | Y19: - | Z19: - | AA19: -
A20: ⅩⅦ先天異常(Q00～Q99) | D20: 3 | E20: 1 | F20: 1 | G20: 1 | H20: 0 | I20: 0 | J20: 0 | K20: 0 | L20: 1 | M20: 1 | N20: 0 | O20: 0 | P20: 0 | Q20: 0 | R20: 0 | S20: 0 | T20: 2 | U20: 0 | V20: 1 | W20: 1 | X20: 0 | Y20: 0 | Z20: 0 | AA20: 0
B21: Ｐ00 | C21: 現在の妊娠とは無関係の場合もある母体の病態による障害 | D21: 1 | E21: 0 | F21: 1 | G21: 0 | H21: 0 | I21: 0 | J21: 0 | K21: 0 | L21: 0 | M21: - | N21: - | O21: - | P21: - | Q21: - | R21: - | S21: - | T21: 1 | U21: - | V21: 1 | W21: - | X21: - | Y21: - | Z21: - | AA21: -
B22: Ｐ01 | C22: 母体の妊娠合併症による障害 | D22: 0 | E22: 0 | F22: 0 | G22: 0 | H22: 0 | I22: 0 | J22: 0 | K22: 0 | L22: 0 | M22: - | N22: - | O22: - | P22: - | Q22: - | R22: - | S22: - | T22: 0 | U22: - | V22: - | W22: - | X22: - | Y22: - | Z22: - | AA22: -
B23: Ｐ02 | C23: 胎盤・臍帯及び卵膜の合併症による障害 | D23: 0 | E23: 0 | F23: 0 | G23: 0 | H23: 0 | I23: 0 | J23: 0 | K23: 0 | L23: 0 | M23: - | N23: - | O23: - | P23: - | Q23: - | R23: - | S23: - | T23: 0 | U23: - | V23: - | W23: - | X23: - | Y23: - | Z23: - | AA23: -
B24: Ｐ03 | C24: その他の分娩合併症による障害 | D24: 0 | E24: 0 | F24: 0 | G24: 0 | H24: 0 | I24: 0 | J24: 0 | K24: 0 | L24: 0 | M24: - | N24: - | O24: - | P24: - | Q24: - | R24: - | S24: - | T24: 0 | U24: - | V24: - | W24: - | X24: - | Y24: - | Z24: - | AA24: -
B25: Ｐ04 | C25: 胎盤又は母乳を介して有害な影響を受けた障害 | D25: 0 | E25: 0 | F25: 0 | G25: 0 | H25: 0 | I25: 0 | J25: 0 | K25: 0 | L25: 0 | M25: - | N25: - | O25: - | P25: - | Q25: - | R25: - | S25: - | T25: 0 | U25: - | V25: - | W25: - | X25: - | Y25: - | Z25: - | AA25: -
B26: Ｐ99 | C26: 母体に原因なし | D26: 2 | E26: 1 | F26: 0 | G26: 1 | H26: 0 | I26: 0 | J26: 0 | K26: 0 | L26: 1 | M26: 1 | N26: - | O26: - | P26: - | Q26: - | R26: - | S26: - | T26: 1 | U26: - | V26: - | W26: 1 | X26: - | Y26: - | Z26: - | AA26: -
A27: その他の病態及び児側病態の記載のないもの | D27: 1 | E27: 0 | F27: 1 | G27: 0 | H27: 0 | I27: 0 | J27: 0 | K27: 0 | L27: 1 | M27: 0 | N27: 1 | O27: 0 | P27: 0 | Q27: 0 | R27: 0 | S27: 0 | T27: 0 | U27: 0 | V27: 0 | W27: 0 | X27: 0 | Y27: 0 | Z27: 0 | AA27: 0
B28: Ｐ00 | C28: 現在の妊娠とは無関係の場合もある母体の病態による障害 | D28: 1 | E28: 0 | F28: 1 | G28: 0 | H28: 0 | I28: 0 | J28: 0 | K28: 0 | L28: 1 | M28: - | N28: 1 | O28: - | P28: - | Q28: - | R28: - | S28: - | T28: 0 | U28: - | V28: - | W28: - | X28: - | Y28: - | Z28: - | AA28: -
B29: Ｐ01 | C29: 母体の妊娠合併症による障害 | D29: 0 | E29: 0 | F29: 0 | G29: 0 | H29: 0 | I29: 0 | J29: 0 | K29: 0 | L29: 0 | M29: - | N29: - | O29: - | P29: - | Q29: - | R29: - | S29: - | T29: 0 | U29: - | V29: - | W29: - | X29: - | Y29: - | Z29: - | AA29: -
B30: Ｐ02 | C30: 胎盤・臍帯及び卵膜の合併症による障害 | D30: 0 | E30: 0 | F30: 0 | G30: 0 | H30: 0 | I30: 0 | J30: 0 | K30: 0 | L30: 0 | M30: - | N30: - | O30: - | P30: - | Q30: - | R30: - | S30: - | T30: 0 | U30: - | V30: - | W30: - | X30: - | Y30: - | Z30: - | AA30: -
B31: Ｐ03 | C31: その他の分娩合併症による障害 | D31: 0 | E31: 0 | F31: 0 | G31: 0 | H31: 0 | I31: 0 | J31: 0 | K31: 0 | L31: 0 | M31: - | N31: - | O31: - | P31: - | Q31: - | R31: - | S31: - | T31: 0 | U31: - | V31: - | W31: - | X31: - | Y31: - | Z31: - | AA31: -
B32: Ｐ04 | C32: 胎盤又は母乳を介して有害な影響を受けた障害 | D32: 0 | E32: 0 | F32: 0 | G32: 0 | H32: 0 | I32: 0 | J32: 0 | K32: 0 | L32: 0 | M32: - | N32: - | O32: - | P32: - | Q32: - | R32: - | S32: - | T32: 0 | U32: - | V32: - | W32: - | X32: - | Y32: - | Z32: - | AA32: -
B33: Ｐ99 | C33: 母体に原因なし | D33: 0 | E33: 0 | F33: 0 | G33: 0 | H33: 0 | I33: 0 | J33: 0 | K33: 0 | L33: 0 | M33: - | N33: - | O33: - | P33: - | Q33: - | R33: - | S33: - | T33: 0 | U33: - | V33: - | W33: - | X33: - | Y33: - | Z33: - | AA33: -
