Workbook
Name 一次下請: 記入例!$H$38:$H$39
Name 一次下請: '提出書類一覧（入力用）'!$H$45:$H$46
Name 三次下請: 記入例!$J$38:$J$39
Name 三次下請: '提出書類一覧（入力用）'!$J$45:$J$46
Name 四次下請: 記入例!$K$38:$K$39
Name 四次下請: '提出書類一覧（入力用）'!$K$45:$K$46
Name 二次下請: 記入例!$I$38:$I$39
Name 二次下請: '提出書類一覧（入力用）'!$I$45:$I$46

Sheet 記入例
A2: 施工体制台帳等の提出書類一覧表
A4: 施工体系 | C4: 会社名 | E4: 25.施工体制台帳等
E5: 施工体制台帳再下請負通知 | F5: 注文請書 契約書 | G5: 作業員 名簿
A6: 元 請 | C6: ㈱〇〇建設 | G6: ● 提出
A7: 一次下請 | B7: =IFERROR(VLOOKUP(A7,$H$31:$I$34,2,FALSE),"") -> ■ | C7: ① | D7: ㈱〇〇組 | E7: ● 施工体制台帳 | F7: ● 注文請書 | G7: × 未提出
A8: 二次下請 | B8: =IFERROR(VLOOKUP(A8,$H$31:$I$34,2,FALSE),"") -> ■ | C8: ② | D8: 〇〇工業㈱ | E8: ● 再下請負通知 | F8: ● 契約書 | G8: ● 提出
A9: 三次下請 | B9: =IFERROR(VLOOKUP(A9,$H$31:$I$34,2,FALSE),"") -> ■ | C9: ③ | D9: 〇〇建設工業㈱ | E9: ● 再下請負通知 | F9: ● 注文請書 | G9: ● 提出
A10: 二次下請 | B10: =IFERROR(VLOOKUP(A10,$H$31:$I$34,2,FALSE),"") -> ■ | C10: ④ | D10: ㈱〇〇産業 | E10: × 未提出 | F10: × 未提出 | G10: ● 提出
A11: 一次下請 | B11: =IFERROR(VLOOKUP(A11,$H$31:$I$34,2,FALSE),"") -> ■ | C11: ⑤ | D11: 〇〇建設 | E11: ● 施工体制台帳 | F11: ● 注文請書 | G11: × 未提出
B12: =IFERROR(VLOOKUP(A12,$H$31:$I$34,2,FALSE),"") | C12: ⑥
B13: =IFERROR(VLOOKUP(A13,$H$31:$I$34,2,FALSE),"") | C13: ⑦
B14: =IFERROR(VLOOKUP(A14,$H$31:$I$34,2,FALSE),"") | C14: ⑧
B15: =IFERROR(VLOOKUP(A15,$H$31:$I$34,2,FALSE),"") | C15: ➈
B16: =IFERROR(VLOOKUP(A16,$H$31:$I$34,2,FALSE),"") | C16: ⑩
A17: 施工体系（記入順例）
H31: 一次下請 | I31: ■ | J31: ● 注文請書 | K31: ● 提出
H32: 二次下請 | I32: ■ | J32: ● 契約書 | K32: × 未提出
H33: 三次下請 | I33: ■ | J33: × 未提出
H34: 四次下請 | I34: ■
H37: 一次下請 | I37: 二次下請 | J37: 三次下請 | K37: 四次下請
H38: ● 施工体制台帳 | I38: ● 再下請負通知 | J38: ● 再下請負通知 | K38: ● 再下請負通知
H39: × 未提出 | I39: × 未提出 | J39: × 未提出 | K39: × 未提出

Sheet 提出書類一覧（入力用）
A2: 施工体制台帳等の提出書類一覧表
A4: 施工体系 | C4: 会社名 | E4: 25.施工体制台帳等
E5: 施工体制台帳再下請負通知 | F5: 注文請書 契約書 | G5: 作業員 名簿
A6: 元 請
B7: =IFERROR(VLOOKUP(A7,$H$38:$I$41,2,FALSE),"") | C7: ①
B8: =IFERROR(VLOOKUP(A8,$H$38:$I$41,2,FALSE),"") | C8: ②
B9: =IFERROR(VLOOKUP(A9,$H$38:$I$41,2,FALSE),"") | C9: ③
B10: =IFERROR(VLOOKUP(A10,$H$38:$I$41,2,FALSE),"") | C10: ④
B11: =IFERROR(VLOOKUP(A11,$H$38:$I$41,2,FALSE),"") | C11: ⑤
B12: =IFERROR(VLOOKUP(A12,$H$38:$I$41,2,FALSE),"") | C12: ⑥
B13: =IFERROR(VLOOKUP(A13,$H$38:$I$41,2,FALSE),"") | C13: ⑦
B14: =IFERROR(VLOOKUP(A14,$H$38:$I$41,2,FALSE),"") | C14: ⑧
B15: =IFERROR(VLOOKUP(A15,$H$38:$I$41,2,FALSE),"") | C15: ➈
B16: =IFERROR(VLOOKUP(A16,$H$38:$I$41,2,FALSE),"") | C16: ⑩
B17: =IFERROR(VLOOKUP(A17,$H$38:$I$41,2,FALSE),"") | C17: ⑪
B18: =IFERROR(VLOOKUP(A18,$H$38:$I$41,2,FALSE),"") | C18: ⑫
... B36: =IFERROR(VLOOKUP(A36,$H$38:$I$41,2,FALSE),"") | C36: ㉚
A38: 施工体系（記入順例） | H38: 一次下請 | I38: ■ | J38: ● 注文請書 | K38: ● 提出
H39: 二次下請 | I39: ■ | J39: ● 契約書 | K39: × 未提出
H40: 三次下請 | I40: ■ | J40: × 未提出
H41: 四次下請 | I41: ■
H44: 一次下請 | I44: 二次下請 | J44: 三次下請 | K44: 四次下請
H45: ● 施工体制台帳 | I45: ● 再下請負通知 | J45: ● 再下請負通知 | K45: ● 再下請負通知
H46: × 未提出 | I46: × 未提出 | J46: × 未提出 | K46: × 未提出

Sheet 元請用（見出し）
B4: 施工体制台帳等の 提出書類一覧（元請用）
E7: 25. 施工体制台帳等
B8: 会社名 | C8: 施工体制台帳再下請負通知 | D8: 請書 | E8: 作業員名簿
B9: ='提出書類一覧（入力用）'!C6 -> 0 | E9: ='提出書類一覧（入力用）'!G6 -> 0
F31: 別添
F32: 元請・下請に建退共者無し
F33: 過去工事で余った証紙を使用(共済証紙受払簿添付)

Sheet 下請用（見出し）
B4: 施工体制台帳等の 提出書類一覧（下請用）
C7: 25. 施工体制台帳等
B8: 会社名 | C8: 施工体制台帳再下請負通知 | D8: 注文請書 契約書 | E8: 作業員 名簿
C9: =VLOOKUP(B9,'提出書類一覧（入力用）'!D7:G36,2,FALSE) -> #N/A | D9: =VLOOKUP(B9,'提出書類一覧（入力用）'!D7:G36,3,FALSE) -> #N/A | E9: =VLOOKUP(B9,'提出書類一覧（入力用）'!D7:G36,4,FALSE) -> #N/A

Sheet Sheet1
